Workbook

Sheet 2023年1月残疾人生活津贴
A1: 冲蒌镇残疾人生活津贴（低保残疾人）发放名册（2023年1月220元）
A3: 序号 | B3: 请核对非人账号发放 | C3: 镇别 | D3: 姓名 | E3: 性别 | F3: 残疾人证号码 | G3: 身份证号码 | H3: 残疾类别 | I3: 残疾等级 | J3: 详细居住地址 | K3: 银行账号 | L3: 户名 | M3: 发放银行 | N3: 备注 | P3: 村（居） | Q3: 监护人姓名 | R3: 关系
A4: =ROW()-3 -> 1 | B4: 社保卡 | C4: 冲蒌 | D4: 伍杏梨 | E4: 女 | F4: 44072219711031352762 | G4: =LEFT(F4,18) -> 440722197110313527 | H4: 精神 | I4: 二级 | J4: 台山市冲蒌镇西海连山村8巷1号 | K4: 6228230616707641060 | L4: 伍杏梨 | M4: 中国农业银行股份有限公司台山市支行 | O4: =IF(D4=L4,"相同","不相同") -> 相同
A5: =ROW()-3 -> 2 | B5: 社保卡 | C5: 冲蒌 | D5: 赵艳琼 | E5: 女 | F5: 44078119940824354052 | G5: =LEFT(F5,18) -> 440781199408243540 | H5: 智力 | I5: 二级 | J5: 台山市冲蒌镇稔坪龙湾村7巷2号北 | K5: 6228230617153831668 | L5: 赵艳琼 | M5: 中国农业银行股份有限公司台山市支行 | O5: =IF(D5=L5,"相同","不相同") -> 相同
A6: =ROW()-3 -> 3 | B6: 社保卡 | C6: 冲蒌 | D6: 陈慕贞 | E6: 女 | F6: 44078119731112352762 | G6: =LEFT(F6,18) -> 440781197311123527 | H6: 精神 | I6: 二级 | J6: 台山市冲蒌镇竹洛村9巷8号 | K6: 6228230617120721760 | L6: 陈慕贞 | M6: 中国农业银行股份有限公司台山市支行 | O6: =IF(D6=L6,"相同","不相同") -> 相同
A7: =ROW()-3 -> 4 | B7: 社保卡 | C7: 冲蒌 | D7: 蔡福钦 | E7: 男 | F7: 44072219510511351342 | G7: =LEFT(F7,18) -> 440722195105113513 | H7: 肢体 | I7: 二级 | J7: 台山市冲蒌镇三和福田村6巷3号西 | K7: 6228230616765511866 | L7: 蔡福钦 | M7: 中国农业银行股份有限公司台山市支行 | O7: =IF(D7=L7,"相同","不相同") -> 相同
A8: =ROW()-3 -> 5 | B8: 社保卡 | C8: 冲蒌 | D8: 麦树威 | E8: 男 | F8: 44072219700208355X63 | G8: =LEFT(F8,18) -> 44072219700208355X | H8: 精神 | I8: 三级 | J8: 台山市冲蒌镇竹湖东安村二巷4号 | K8: 6228230616692426261 | L8: 麦树威 | M8: 中国农业银行股份有限公司台山市支行 | O8: =IF(D8=L8,"相同","不相同") -> 相同
A9: =ROW()-3 -> 6 | B9: 社保卡 | C9: 冲蒌 | D9: 叶玉秀 | E9: 女 | F9: 44072219530921352431 | G9: =LEFT(F9,18) -> 440722195309213524 | H9: 语言 | I9: 一级 | J9: 台山市冲蒌镇白岗永盛村11巷5号 | K9: 6228230616707563561 | L9: 叶玉秀 | M9: 中国农业银行股份有限公司台山市支行 | O9: =IF(D9=L9,"相同","不相同") -> 相同
A10: =ROW()-3 -> 7 | B10: 存折 | C10: 冲蒌 | D10: 伍伟权 | E10: 男 | F10: 44078119980822351441 | G10: =LEFT(F10,18) -> 440781199808223514 | H10: 肢体 | I10: 一级 | J10: 冲蒌镇竹洛村18巷2号 | K10: 80010002053981914 | L10: 伍伟权 | M10: 广东台山农村商业银行股份有限公司 | O10: =IF(D10=L10,"相同","不相同") -> 相同
A11: =ROW()-3 -> 8 | B11: 社保卡 | C11: 冲蒌 | D11: 伍月秀 | E11: 女 | F11: 44072219600706352942 | G11: =LEFT(F11,18) -> 440722196007063529 | H11: 肢体 | I11: 二级 | J11: 冲蒌镇官窦朝阳村20巷17号北 | K11: 6228230616692350461 | L11: 伍月秀 | M11: 中国农业银行股份有限公司台山市支行 | O11: =IF(D11=L11,"相同","不相同") -> 相同
A12: =ROW()-3 -> 9 | B12: 社保卡 | C12: 冲蒌 | D12: 伍永霞 | E12: 女 | F12: 44078119741014354X52 | G12: =LEFT(F12,18) -> 44078119741014354X | H12: 智力 | I12: 二级 | J12: 冲蒌镇官窦村三巷15号 | K12: 6228230617153820869 | L12: 伍永霞 | M12: 中国农业银行股份有限公司台山市支行 | O12: =IF(D12=L12,"相同","不相同") -> 相同
A13: =ROW()-3 -> 10 | B13: 社保卡 | C13: 冲蒌 | D13: 李洽培 | E13: 男 | F13: 44072219621129355944 | G13: =LEFT(F13,18) -> 440722196211293559 | H13: 肢体 | I13: 四级 | J13: 冲蒌镇稔坪东头村10巷5号 | K13: 6228230616696848064 | L13: 李洽培 | M13: 中国农业银行股份有限公司台山市支行 | O13: =IF(D13=L13,"相同","不相同") -> 相同
A14: =ROW()-3 -> 11 | B14: 社保卡 | C14: 冲蒌 | D14: 梁国锐 | E14: 男 | F14: 44072219550313353643 | G14: =LEFT(F14,18) -> 440722195503133536 | H14: 肢体 | I14: 三级 | J14: 冲蒌镇冲洋龙池旧村5巷6号 | K14: 6228230616764668964 | L14: 梁国锐 | M14: 中国农业银行股份有限公司台山市支行 | O14: =IF(D14=L14,"相同","不相同") -> 相同
A15: =ROW()-3 -> 12 | B15: 社保卡 | C15: 冲蒌 | D15: 伍慧娜 | E15: 女 | F15: 44078119770104352253 | G15: =LEFT(F15,18) -> 440781197701043522 | H15: 多重 | I15: 精神二级+智力三级 | J15: 冲蒌镇新屋南和坑村十巷4号北 | K15: 6228230617156269064 | L15: 伍慧娜 | M15: 中国农业银行股份有限公司台山市支行 | O15: =IF(D15=L15,"相同","不相同") -> 相同
... A56: =ROW()-3 -> 53 | B56: 社保卡 | C56: 冲蒌 | D56: 蔡碧园 | E56: 女 | F56: 44078119770521352552 | G56: =LEFT(F56,18) -> 440781197705213525 | H56: 智力 | I56: 二级 | J56: 冲蒌镇白岗永盛村11巷5号 | K56: 6228230616707534463 | L56: 蔡碧园 | M56: 中国农业银行股份有限公司台山市支行 | O56: =IF(D56=L56,"相同","不相同") -> 相同
A57: =ROW()-3 -> 54 | B57: 社保卡 | C57: 冲蒌 | D57: 陈周源 | E57: =VLOOKUP(D57,[1]残疾人人口基础数据!$A:$C,3,0) -> 男 | F57: 44072219570902351943 | G57: =LEFT(F57,18) -> 440722195709023519 | H57: 肢体 | I57: 三级 | J57: 冲蒌镇朝中朝宁村5巷37号 | K57: 6228230616730380462 | L57: 陈周源 | M57: 中国农业银行股份有限公司台山市支行 | O57: =IF(D57=L57,"相同","不相同") -> 相同
A58: =ROW()-3 -> 55 | B58: 社保卡 | C58: 冲蒌 | D58: 李伟新 | E58: =VLOOKUP(D58,[1]残疾人人口基础数据!$A:$C,3,0) -> 男 | F58: 44078119820113351844 | G58: =LEFT(F58,18) -> 440781198201133518 | H58: 肢体 | I58: 四级 | J58: 冲蒌镇达材西盛村5巷3号南 | K58: 6228230616707583866 | L58: 李伟新 | M58: 中国农业银行股份有限公司台山市支行 | O58: =IF(D58=L58,"相同","不相同") -> 相同
A59: =ROW()-3 -> 56 | B59: 社保卡 | C59: 冲蒌 | D59: 陈秀仪 | E59: =VLOOKUP(D59,[1]残疾人人口基础数据!$A:$C,3,0) -> 女 | F59: 44072219731214354652 | G59: =LEFT(F59,18) -> 440722197312143546 | H59: 智力 | I59: 二级 | J59: 冲蒌镇官窦村7巷9号 | K59: 6228230617066837067 | L59: 陈秀仪 | M59: 中国农业银行股份有限公司台山市支行 | O59: =IF(D59=L59,"相同","不相同") -> 相同
A60: =ROW()-3 -> 57 | B60: 社保卡 | C60: 冲蒌 | D60: 李亚考 | E60: 女 | F60: 44072219690401476X63 | G60: =LEFT(F60,18) -> 44072219690401476X | H60: 精神 | I60: 二级 | J60: 冲蒌镇竹湖村九巷1号中 | K60: 6228230616695594362 | L60: 李亚考 | M60: 中国农业银行股份有限公司台山市支行 | O60: =IF(D60=L60,"相同","不相同") -> 相同
A61: =ROW()-3 -> 58 | B61: 社保卡 | C61: 冲蒌 | D61: 邓启英 | E61: 男 | F61: 44072219670114351042 | G61: =LEFT(F61,18) -> 440722196701143510 | H61: 肢体 | I61: 二级 | J61: 冲蒌镇白岗村15巷1号 | K61: 6228230616707542961 | L61: 邓启英 | M61: 中国农业银行股份有限公司台山市支行 | O61: =IF(D61=L61,"相同","不相同") -> 相同
A62: =ROW()-3 -> 59 | B62: 社保卡 | C62: 冲蒌 | D62: 李活龙 | E62: 男 | F62: 44078120060303351X53 | G62: =LEFT(F62,18) -> 44078120060303351X | H62: 智力 | I62: 三级 | J62: 冲蒌镇达材碧安村5巷4号西 | K62: 6228230617391179961 | L62: 李活龙 | M62: 中国农业银行股份有限公司台山市支行 | O62: =IF(D62=L62,"相同","不相同") -> 相同
A63: =ROW()-3 -> 60 | B63: 社保卡 | C63: 冲蒌 | D63: 伍啟辉 | E63: 男 | F63: 44078119790804351144 | G63: =LEFT(F63,18) -> 440781197908043511 | H63: 肢体 | I63: 四级 | J63: 冲蒌镇官窦村九巷3号南 | K63: 6228230617153818962 | L63: 伍啟辉 | M63: 中国农业银行股份有限公司台山市支行 | O63: =IF(D63=L63,"相同","不相同") -> 相同
A64: =ROW()-3 -> 61 | B64: 社保卡 | C64: 冲蒌 | D64: 伍进文 | E64: 男 | F64: 44078119800128351162 | G64: =LEFT(F64,18) -> 440781198001283511 | H64: 精神 | I64: 二级 | J64: 冲蒌镇竹洛村14巷15号西 | K64: 6228230617062561067 | L64: 伍进文 | M64: 中国农业银行股份有限公司台山市支行 | O64: =IF(D64=L64,"相同","不相同") -> 相同
A65: =ROW()-3 -> 62 | B65: 社保卡 | C65: 冲蒌 | D65: 吴晓斌 | E65: 男 | F65: 44078120020223353753 | G65: =LEFT(F65,18) -> 440781200202233537 | H65: 智力 | I65: 三级 | J65: 冲蒌镇达材东兴村3巷6号 | K65: 6228230617391184169 | L65: 吴晓斌 | M65: 中国农业银行股份有限公司台山市支行 | O65: =IF(D65=L65,"相同","不相同") -> 相同
A66: =ROW()-3 -> 63 | B66: 社保卡 | C66: 冲蒌 | D66: 伍小娟 | E66: 女 | F66: 44072219621203352142 | G66: =LEFT(F66,18) -> 440722196212033521 | H66: 肢体 | I66: 二级 | J66: 冲蒌镇新屋窑岗村六巷4号 | K66: 6228230617064110764 | L66: 伍小娟 | M66: 中国农业银行股份有限公司台山市支行 | O66: =IF(D66=L66,"相同","不相同") -> 相同
A67: =ROW()-3 -> 64 | B67: 社保卡 | C67: 冲蒌 | D67: 刘惠琼 | E67: 女 | F67: 44072219750207352612 | G67: =LEFT(F67,18) -> 440722197502073526 | H67: 听力 | I67: 二级 | J67: 冲蒌镇八家围安村四巷4号 | K67: 6228230617069597163 | L67: 刘惠琼 | M67: 中国农业银行股份有限公司台山市支行 | O67: =IF(D67=L67,"相同","不相同") -> 相同
A68: =ROW()-3 -> 65 | B68: 社保卡 | C68: 冲蒌 | D68: 黎金芬 | E68: 女 | F68: 51222119690408584752 | G68: =LEFT(F68,18) -> 512221196904085847 | H68: 智力 | I68: 二级 | J68: 冲蒌镇新屋新塘村4号东 | K68: 6228230616758736264 | L68: 黎金芬 | M68: 中国农业银行股份有限公司台山市支行 | O68: =IF(D68=L68,"相同","不相同") -> 相同
A69: =ROW()-3 -> 66 | B69: 社保卡 | C69: 冲蒌 | D69: 梁振财 | E69: 男 | F69: 44072219550311351942 | G69: =LEFT(F69,18) -> 440722195503113519 | H69: 肢体 | I69: 二级 | J69: 冲蒌镇新围咸塘村9巷6号东 | K69: 6228230617611527361 | L69: 梁振财 | M69: 中国农业银行股份有限公司台山市支行 | O69: =IF(D69=L69,"相同","不相同") -> 相同
A70: =ROW()-3 -> 67 | B70: 社保卡 | C70: 冲蒌 | D70: 伍锦凤 | E70: 女 | F70: 44078119651218354852 | G70: =LEFT(F70,18) -> 440781196512183548 | H70: 智力 | I70: 二级 | J70: 冲蒌镇新围村13巷9号东 | K70: 6217280734000545490 | L70: 伍锦凤 | M70: 广东台山农村商业银行股份有限公司 | O70: =IF(D70=L70,"相同","不相同") -> 相同
A71: =ROW()-3 -> 68 | B71: 社保卡 | C71: 冲蒌 | D71: 伍灼文 | E71: 男 | F71: 44072219750922351544 | G71: =LEFT(F71,18) -> 440722197509223515 | H71: 肢体 | I71: 四级 | J71: 冲蒌镇官窦村16巷10号北 | K71: 6228230618003975572 | L71: 伍灼文 | M71: 中国农业银行股份有限公司台山市支行 | O71: =IF(D71=L71,"相同","不相同") -> 相同
... A138: =ROW()-3 -> 135 | B138: 社保卡 | C138: 冲蒌 | D138: 倪美娟 | E138: 男 | F138: 44078119890829356651 | G138: =LEFT(F138,18) -> 440781198908293566 | H138: 智力 | I138: 一级 | J138: 冲蒌镇新屋窑岗村七巷7号 | K138: 6228230617156267969 | L138: 倪美娟 | M138: 中国农业银行股份有限公司台山市支行 | O138: =IF(D138=L138,"相同","不相同") -> 相同
A139: =ROW()-3 -> 136 | B139: 社保卡 | C139: 冲蒌 | D139: 伍光业 | E139: 男 | F139: 44072219591030351241 | G139: =LEFT(F139,18) -> 440722195910303512 | H139: 肢体 | I139: 一级 | J139: 广东省台山市冲蒌镇竹洛村24巷3号 | K139: 6228230616764437568 | L139: 伍光业 | M139: 中国农业银行股份有限公司台山市支行
A140: =ROW()-3 -> 137 | B140: 社保卡 | C140: 冲蒌 | D140: 伍德荣 | E140: 男 | F140: 44072219401111357741 | G140: =LEFT(F140,18) -> 440722194011113577 | H140: 肢体 | I140: 一级 | J140: 广东省台山市冲蒌镇八家齐洛村19巷2号南 | K140: 6228230616733271668 | L140: 伍德荣 | M140: 中国农业银行股份有限公司台山市支行

Sheet 2023年1月重度护理补贴
A1: 冲蒌镇残疾人重度护理补贴发放名册（2023年1月280元）
A2: 序号 | B2: 请核对（非人账号发放和核对账号 | C2: 镇别 | D2: 姓名 | E2: 性别 | F2: 残疾人证号 | G2: 身份证号码 | H2: 残疾类别 | I2: 级别 | J2: 地址 | K2: 银行帐号 | L2: 户名 | M2: 发放银行 | N2: 备注 | O2: 村（居） | P2: 监护人姓名 | Q2: 关系
A3: =ROW()-2 -> 1 | B3: 社保卡 | C3: 冲蒌 | D3: 梁炎洪 | E3: 男 | F3: 44078119880823353111 | G3: 440781198808233531 | H3: 视力 | I3: 一级 | J3: 冲蒌镇新屋南和坑村13巷3号 | K3: 6228230616729992863 | L3: 梁炎洪 | M3: 中国农业银行股份有限公司台山市支行
A4: =ROW()-2 -> 2 | B4: 存折 | C4: 冲蒌 | D4: 梁碧霞 | E4: 女 | F4: 44072219691226352062 | G4: =MID(F4,1,18) -> 440722196912263520 | H4: 精神 | I4: 二级 | J4: 冲蒌镇官窦龙塘村9巷6号北 | K4: 80010001327562404 | L4: 梁碧霞 | M4: 广东台山农村商业银行股份有限公司
A5: =ROW()-2 -> 3 | B5: 社保卡 | C5: 冲蒌 | D5: 麦湛生 | E5: 男 | F5: 44078119860119355271 | G5: =MID(F5,1,18) -> 440781198601193552 | H5: 听力 | I5: 二级 | J5: 冲蒌镇友爱路10号 | K5: 6217212012015000584 | L5: 麦湛生 | M5: 中国工商银行股份有限公司台山支行
A6: =ROW()-2 -> 4 | B6: 存折 | C6: 冲蒌 | D6: 陈雅荷 | E6: 女 | F6: 44078119840705382062 | G6: =LEFT(F6,18) -> 440781198407053820 | H6: 精神 | I6: 二级 | J6: 斗山镇五福那马村6巷19号 | K6: 80010001645714412 | L6: 陈雅荷 | M6: 广东台山农村商业银行股份有限公司
A7: =ROW()-2 -> 5 | B7: 社保卡 | C7: 冲蒌 | D7: 黄彩莲 | E7: 女 | F7: 44072219421025352111 | G7: =LEFT(F7,18) -> 440722194210253521 | H7: 视力 | I7: 一级 | J7: 冲蒌镇八家逢源村四巷1号 | K7: 6228230616707522062 | L7: 黄彩莲 | M7: 中国农业银行股份有限公司台山市支行
A8: =ROW()-2 -> 6 | B8: 社保卡 | C8: 冲蒌 | D8: 刘灿豪 | E8: 男 | F8: 44072219480420351342 | G8: =LEFT(F8,18) -> 440722194804203513 | H8: 肢体 | I8: 二级 | J8: 冲蒌镇达材西就村10巷1号 | K8: 6228230617116888565 | L8: 刘灿豪 | M8: 中国农业银行股份有限公司台山市支行
A9: =ROW()-2 -> 7 | B9: 社保卡 | C9: 冲蒌 | D9: 伍启云 | E9: 男 | F9: 44072219500726353442 | G9: =LEFT(F9,18) -> 440722195007263534 | H9: 肢体 | I9: 二级 | J9: 冲蒌镇竹洛村27巷3号 | K9: 6228230616765578360 | L9: 伍启云 | M9: 中国农业银行股份有限公司台山市支行
A10: =ROW()-2 -> 8 | B10: 社保卡 | C10: 冲蒌 | D10: 赵翠琼 | E10: 女 | F10: 44072219520822354711 | G10: =LEFT(F10,18) -> 440722195208223547 | H10: 视力 | I10: 一级 | J10: 冲蒌镇稔坪公侯村1巷1号 | K10: 6228230616764453169 | L10: 赵翠琼 | M10: 中国农业银行股份有限公司台山市支行
A11: =ROW()-2 -> 9 | B11: 社保卡 | C11: 冲蒌 | D11: 伍柏祥 | E11: 男 | F11: 44072219530327353442 | G11: =LEFT(F11,18) -> 440722195303273534 | H11: 肢体 | I11: 二级 | J11: 冲蒌镇新围胜塘村5巷3号西 | K11: 6228230616729981965 | L11: 伍柏祥 | M11: 中国农业银行股份有限公司台山市支行
A12: =ROW()-2 -> 10 | B12: 社保卡 | C12: 冲蒌 | D12: 伍仕安 | E12: 男 | F12: 44072219531010351742 | G12: =LEFT(F12,18) -> 440722195310103517 | H12: 肢体 | I12: 二级 | J12: 冲蒌镇官窦村41巷11号 | K12: 6228230615346938366 | L12: 伍仕安 | M12: 中国农业银行股份有限公司台山市支行
A13: =ROW()-2 -> 11 | B13: 社保卡 | C13: 冲蒌 | D13: 梅兰素 | E13: 女 | F13: 44072219540301354542 | G13: =LEFT(F13,18) -> 440722195403013545 | H13: 肢体 | I13: 二级 | J13: 冲蒌镇西海河洲村6巷2号南 | K13: 6228230616733413062 | L13: 梅兰素 | M13: 中国农业银行股份有限公司台山市支行
A14: =ROW()-2 -> 12 | B14: 社保卡 | C14: 冲蒌 | D14: 陈青平 | E14: 男 | F14: 44072219540723351071 | G14: =LEFT(F14,18) -> 440722195407233510 | H14: 多重 | I14: 听力一级+言语一级 | J14: 冲蒌镇伞塘锦元村6巷1号北 | K14: 6228230616764378267 | L14: 陈青平 | M14: 中国农业银行股份有限公司台山市支行
A15: =ROW()-2 -> 13 | B15: 社保卡 | C15: 冲蒌 | D15: 李银娟 | E15: 女 | F15: 44072219561027432642 | G15: =LEFT(F15,18) -> 440722195610274326 | H15: 肢体 | I15: 二级 | J15: 冲蒌镇八家潮美村八巷3号西 | K15: 6228230617069594061 | L15: 李银娟 | M15: 中国农业银行股份有限公司台山市支行
A16: =ROW()-2 -> 14 | B16: 社保卡 | C16: 冲蒌 | D16: 麦瑞英 | E16: 女 | F16: 44072219571116352942 | G16: =LEFT(F16,18) -> 440722195711163529 | H16: 肢体 | I16: 二级 | J16: 冲蒌镇竹湖村十六巷3号 | K16: 6228230617116920467 | L16: 麦瑞英 | M16: 中国农业银行股份有限公司台山市支行
A17: =ROW()-2 -> 15 | B17: 社保卡 | C17: 冲蒌 | D17: 余瑞波 | E17: 男 | F17: 44072219590125351742 | G17: =LEFT(F17,18) -> 440722195901253517 | H17: 肢体 | I17: 二级 | J17: 冲蒌镇达材永安村7巷3号 | K17: 6228230616707608762 | L17: 余瑞波 | M17: 中国农业银行股份有限公司台山市支行
... A261: =ROW()-2 -> 259 | B261: 社保卡 | C261: 冲蒌 | D261: 陈小珠 | E261: 女 | F261: 44072219650806384252 | G261: =LEFT(F261,18) -> 440722196508063842 | H261: 智力 | I261: 二级 | J261: 冲蒌镇白岗鹅腔村新鹅里2巷1号 | K261: 6217280734000487628 | L261: 陈小珠 | M261: 广东台山农村商业银行股份有限公司
A262: =ROW()-2 -> 260 | B262: 社保卡 | C262: 冲蒌 | D262: 蔡秋月 | E262: 女 | F262: 44072219490710356662 | G262: =LEFT(F262,18) -> 440722194907103566 | H262: 精神 | I262: =VLOOKUP(D262,[2]残疾人人口基础数据!$A:$E,5,0) -> 二级 | J262: 冲蒌镇竹洛村8巷9号 | K262: 6228230616764440869 | L262: 蔡秋月 | M262: 中国农业银行股份有限公司台山市支行
A263: =ROW()-2 -> 261 | B263: 社保卡 | C263: 冲蒌 | D263: 伍国贵 | E263: =VLOOKUP(D263,[2]残疾人人口基础数据!$A:$C,3,0) -> 男 | F263: 44072219430918351962 | G263: =LEFT(F263,18) -> 440722194309183519 | H263: 精神 | I263: =VLOOKUP(D263,[2]残疾人人口基础数据!$A:$E,5,0) -> 二级 | J263: 冲蒌镇官窦村九巷3号南 | K263: 6228230616692355262 | L263: 伍国贵 | M263: 中国农业银行股份有限公司台山市支行
A264: =ROW()-2 -> 262 | B264: 社保卡 | C264: 冲蒌 | D264: 伍美婵 | E264: =VLOOKUP(D264,[2]残疾人人口基础数据!$A:$C,3,0) -> 女 | F264: 44072219510902352354 | G264: =LEFT(F264,18) -> 440722195109023523 | H264: 智力 | I264: =VLOOKUP(D264,[2]残疾人人口基础数据!$A:$E,5,0) -> 四级 | J264: 冲蒌镇达材汉塘村7巷1号西 | K264: 6228230616733361964 | L264: 伍美婵 | M264: 中国农业银行股份有限公司台山市支行
A265: =ROW()-2 -> 263 | B265: 社保卡 | C265: 冲蒌 | D265: 刘瑞卿 | E265: =VLOOKUP(D265,[2]残疾人人口基础数据!$A:$C,3,0) -> 女 | F265: 44072219580710352063 | G265: =LEFT(F265,18) -> 440722195807103520 | H265: 精神 | I265: =VLOOKUP(D265,[2]残疾人人口基础数据!$A:$E,5,0) -> 三级 | J265: 冲蒌镇白岗坪岗村9巷2号 | K265: 6228230616707558462 | L265: 刘瑞卿 | M265: 中国农业银行股份有限公司台山市支行
A266: =ROW()-2 -> 264 | B266: 社保卡 | C266: 冲蒌 | D266: 陈元有 | E266: =VLOOKUP(D266,[2]残疾人人口基础数据!$A:$C,3,0) -> 男 | F266: 44072219641126351431 | G266: =LEFT(F266,18) -> 440722196411263514 | H266: 语言 | I266: =VLOOKUP(D266,[2]残疾人人口基础数据!$A:$E,5,0) -> 一级 | J266: 冲蒌镇三和南泮村5巷1号 | K266: 6228230616729947065 | L266: 陈元有 | M266: 中国农业银行股份有限公司台山市支行
A267: =ROW()-2 -> 265 | B267: 社保卡 | C267: 冲蒌 | D267: 邓珍华 | E267: 男 | F267: 44078119781031353663 | G267: =LEFT(F267,18) -> 440781197810313536 | H267: 精神 | I267: 三级 | J267: 冲蒌镇新屋安仁村九巷7号东 | K267: 6228230618001880576 | L267: 邓珍华 | M267: 中国农业银行股份有限公司台山市支行
A268: =ROW()-2 -> 266 | B268: 社保卡 | C268: 冲蒌 | D268: 伍健安 | E268: 男 | F268: 44072219630104353762 | G268: =LEFT(F268,18) -> 440722196301043537 | H268: 精神 | I268: 二级 | J268: 冲蒌镇新围胜围村10巷1号 | K268: 6217280734000289883 | L268: 伍健安 | M268: 广东台山农村商业银行股份有限公司
A269: =ROW()-2 -> 267 | B269: 社保卡 | C269: 冲蒌 | D269: 袁伟强 | E269: 男 | F269: 44078119971028355164 | G269: =LEFT(F269,18) -> 440781199710283551 | H269: 精神 | I269: 四级 | J269: 冲蒌镇朝中福安村2巷6号东 | K269: 6228230617153839760 | L269: 袁伟强 | M269: 中国农业银行股份有限公司台山市支行
A270: =ROW()-2 -> 268 | B270: 社保卡 | C270: 冲蒌 | D270: 吴宇铖 | E270: 男 | F270: 44078120180421351171 | G270: =LEFT(F270,18) -> 440781201804213511 | H270: 多重 | I270: 智力一级+肢体二级 | J270: 冲蒌镇达材永兴村5巷5号 | K270: 6217280734000568906 | L270: 吴宇铖 | M270: 广东台山农村商业银行股份有限公司
A271: =ROW()-2 -> 269 | B271: 社保卡 | C271: 冲蒌 | D271: 伍春凤 | E271: 女 | F271: 44072219270117352722 | G271: =LEFT(F271,18) -> 440722192701173527 | H271: 听力 | I271: 二级 | J271: 冲蒌镇白岗村新村路西2巷2号 | K271: 6228230616733314963 | L271: 伍春凤 | M271: 中国农业银行股份有限公司台山市支行
A272: =ROW()-2 -> 270 | B272: 社保卡 | C272: 冲蒌 | D272: 刘子峰 | E272: 男 | F272: 44078120130528351573 | G272: =LEFT(F272,18) -> 440781201305283515 | H272: 多重 | I272: 智力三级+精神三级 | J272: 冲蒌镇达材汉塘村6巷11号西 | K272: 6217280734000583426 | L272: 刘子峰 | M272: 广东台山农村商业银行股份有限公司
A273: =ROW()-2 -> 271 | B273: 社保卡 | C273: 冲蒌 | D273: 伍惠仪 | E273: 女 | F273: 44078119950307384253 | G273: =LEFT(F273,18) -> 440781199503073842 | H273: 智力 | I273: 三级 | J273: 斗山镇福场清泉村 | K273: 6228230617566504167 | L273: 伍惠仪 | M273: 中国农业银行股份有限公司台山市支行
A274: =ROW()-2 -> 272 | B274: 社保卡 | C274: 冲蒌 | D274: 伍炳湛 | E274: 男 | F274: 44072219590802351122 | G274: =LEFT(F274,18) -> 440722195908023511 | H274: 听力 | I274: 二级 | J274: 广东省台山市冲蒌镇光荣路21号 | K274: 6214621234000617931 | L274: 伍炳湛 | M274: 广发银行股份有限公司台山分行
A275: =ROW()-2 -> 273 | B275: 社保卡 | C275: 冲蒌 | D275: 曹杏园 | E275: 女 | F275: 45252319630206144561 | G275: =LEFT(F275,18) -> 452523196302061445 | H275: 精神 | I275: 一级 | J275: 广东省台山市冲蒌镇稔坪高安村11巷4号 | K275: 6217567000022220254 | L275: 曹杏园 | M275: 中国银行股份有限公司江门台山支行
A276: =ROW()-2 -> 274 | B276: 社保卡 | C276: 冲蒌 | D276: 李伟明 | E276: 男 | F276: 44072219630214351363 | G276: =LEFT(F276,18) -> 440722196302143513 | H276: 精神 | I276: 三级 | J276: 广东省台山市冲蒌镇达材东成村2巷2号 | K276: 6228230616707583668 | L276: 李伟明 | M276: 中国农业银行股份有限公司台山市支行
A277: =ROW()-2 -> 275 | B277: 社保卡 | C277: 冲蒌 | D277: 刘礼群 | E277: 男 | F277: 44072219630625353342 | G277: =LEFT(F277,18) -> 440722196306253533 | H277: 肢体 | I277: 二级 | J277: 广东省台山市冲蒌镇伞塘平月村4巷2号 | K277: 6217280734000493741 | L277: 刘礼群 | M277: 广东台山农村商业银行股份有限公司
A278: =ROW()-2 -> 276 | B278: 社保卡 | C278: 冲蒌 | D278: 陈婉金 | E278: 女 | F278: 44072219540606354862 | G278: =LEFT(F278,18) -> 440722195406063548 | H278: 精神 | I278: 二级 | J278: 广东省台山市冲蒌镇冲洋龙池新村9巷7号 | K278: 6228230617116880760 | L278: 陈婉金 | M278: 中国农业银行股份有限公司台山市支行
... A362: =ROW()-2 -> 360 | B362: 社保卡 | C362: 冲蒌 | D362: 伍彦宇 | E362: 男 | F362: 440781201505313512 | G362: =LEFT(F362,18) -> 440781201505313512 | H362: 精神 | I362: 一级 | J362: 冲蒌镇官窦村六巷11号 | K362: 6217280734000893643 | L362: 伍彦宇 | M362: 广东台山农村商业银行股份有限公司
A363: =ROW()-2 -> 361 | B363: 社保卡 | C363: 冲蒌 | D363: 伍远照 | E363: 男 | F363: 44072219711229351553 | G363: 440722197112293515 | H363: 智力 | I363: 三级 | J363: 冲蒌镇竹洛村12巷12号东 | K363: 6228230617064089067 | L363: 伍远照 | M363: 中国农业银行股份有限公司台山市支行
A364: =ROW()-2 -> 362 | B364: 社保卡 | C364: 冲蒌 | D364: 陈礼尧 | E364: 男 | F364: 44072219530630351642 | G364: 440722195306303516 | H364: 肢体 | I364: 二级 | J364: 冲蒌镇竹洛坭涌村6巷6号东 | K364: 6228230617064083862 | L364: 陈礼尧 | M364: 中国农业银行股份有限公司台山市支行
A365: =ROW()-2 -> 363 | B365: 社保卡 | C365: 冲蒌 | D365: 麦建和 | E365: 男 | F365: 44072219670226351463 | G365: 440722196702263514 | H365: 精神 | I365: 三级 | J365: 冲蒌镇竹湖江北村三巷9号 | K365: 6228230616758694760 | L365: 麦建和 | M365: 中国农业银行股份有限公司台山市支行
A366: =ROW()-2 -> 364 | B366: 社保卡 | C366: 冲蒌 | D366: 李丽华 | E366: 女 | F366: 44078120020703352652 | G366: 440781200207033526 | H366: 智力 | I366: 二级 | J366: 冲蒌镇光荣路78-86号后座之一 | K366: 6217280734000881267 | L366: 李丽华 | M366: 广东台山农村商业银行股份有限公司
A367: =ROW()-2 -> 365 | B367: 社保卡 | C367: 冲蒌 | D367: 钟玉如 | E367: 女 | F367: 44072219580117354411 | G367: 440722195801173544 | H367: 视力 | I367: 一级 | J367: 冲蒌镇官窦朝阳村九巷2号 | K367: 6228230616765492265 | L367: 钟玉如 | M367: 中国农业银行股份有限公司台山市支行
A368: =ROW()-2 -> 366 | B368: 存折 | C368: 冲蒌 | D368: 伍小珍 | E368: 女 | F368: 44072219681203356862 | G368: 440722196812033568 | H368: 精神 | I368: 二级 | J368: 台山市冲蒌镇官窦村40巷4号南 | K368: 80010000807444867 | L368: 伍小珍 | M368: 广东台山农村商业银行股份有限公司
A369: =ROW()-2 -> 367 | B369: 社保卡 | C369: 冲蒌 | D369: 黄超奇 | E369: 女 | F369: 44072219550508351X42 | G369: 44072219550508351X | H369: 肢体 | I369: 二级 | J369: 台山市冲蒌镇伞塘南昌村新村6巷4号 | K369: 6228230616765516766 | L369: 黄超奇 | M369: 中国农业银行股份有限公司台山市支行
A370: =ROW()-2 -> 368 | B370: 社保卡 | C370: 冲蒌 | D370: 袁雁云 | E370: 女 | F370: 44078119890521352452 | G370: 440781198905213524 | H370: 智力 | I370: 二级 | J370: 冲蒌镇朝中福安村9巷16号 | K370: 6228230616764661662 | L370: 袁雁云 | M370: 中国农业银行股份有限公司台山市支行
A371: =ROW()-2 -> 369 | B371: 社保卡 | C371: 冲蒌 | D371: 梁超宁 | E371: 男 | F371: 44072219500904353522 | G371: 440722195009043535 | H371: 听力 | I371: 二级 | J371: 冲蒌镇新围大堆村八巷6号西 | K371: 6228230617600725661 | L371: 梁超宁 | M371: 中国农业银行股份有限公司台山市支行
A372: =ROW()-2 -> 370 | B372: 社保卡 | C372: 冲蒌 | D372: 邓永怡 | E372: 男 | F372: 44078119920324351241 | G372: 440781199203243512 | H372: 肢体 | I372: 一级 | J372: 冲蒌镇竹湖新屋村三巷4号 | K372: 6228230617156271466 | L372: 邓永怡 | M372: 中国农业银行股份有限公司台山市支行
A373: =ROW()-2 -> 371 | B373: 社保卡 | C373: 冲蒌 | D373: 蔡雁媚 | E373: 女 | F373: 44072219550316352442 | G373: 440722195503163524 | H373: 肢体 | I373: 二级 | J373: 冲蒌镇达材永兴村上村2巷2号 | K373: 6228230617603392261 | L373: 蔡雁媚 | M373: 中国农业银行股份有限公司台山市支行
A374: =ROW()-2 -> 372 | B374: 社保卡 | C374: 冲蒌 | D374: 李艳霞 | E374: 女 | F374: 44072219570717354862 | G374: 440722195707173548 | H374: 精神 | I374: 二级 | J374: 冲蒌镇伞塘银行村9巷5号 | K374: 6228230616764380263 | L374: 李艳霞 | M374: 中国农业银行股份有限公司台山市支行
A375: =ROW()-2 -> 373 | B375: 社保卡 | C375: 冲蒌 | D375: 程植光 | E375: 男 | F375: 44072219570522353X42 | G375: 44072219570522353X | H375: 肢体 | I375: 二级 | J375: 冲蒌镇前锋中围村2巷3号 | K375: 6228230616692358761 | L375: 程植光 | M375: 中国农业银行股份有限公司台山市支行
A376: =ROW()-2 -> 374 | B376: 社保卡 | C376: 冲蒌 | D376: 邓玉凤 | E376: 女 | F376: 45212619701014092862 | G376: =LEFT(F376,18) -> 452126197010140928 | H376: 精神 | I376: 二级 | J376: 冲蒌镇稔坪宦田村6巷5号西 | K376: 6228230617064091469 | L376: 邓玉凤 | M376: 中国农业银行股份有限公司台山市支行
A377: =ROW()-2 -> 375 | B377: 社保卡 | C377: 冲蒌 | D377: 杨青好 | E377: 女 | F377: 44072219490919356942 | G377: =LEFT(F377,18) -> 440722194909193569 | H377: 肢体 | I377: 二级 | J377: 冲蒌镇新围咸塘村11巷5号西 | K377: 6228230616694912367 | L377: 杨青好 | M377: 中国农业银行股份有限公司台山市支行
A378: =ROW()-2 -> 376 | B378: 社保卡 | C378: 冲蒌 | D378: 杨爱群 | E378: 女 | F378: 44072219490921352322 | G378: =LEFT(F378,18) -> 440722194909213523 | H378: 听力 | I378: 二级 | J378: 冲蒌镇侨东路一巷9号402房 | K378: 6228230616764425167 | L378: 杨爱群 | M378: 中国农业银行股份有限公司台山市支行
A379: =ROW()-2 -> 377 | B379: 社保卡 | C379: 冲蒌 | D379: 李润华 | E379: 男 | F379: 44078119900803351X63 | G379: =LEFT(F379,18) -> 44078119900803351X | H379: 精神 | I379: 三级 | J379: 冲蒌镇西坑南安村3巷6号东 | K379: 6228230616695769667 | L379: 李润华 | M379: 中国农业银行股份有限公司台山市支行
A380: =ROW()-2 -> 378 | B380: 社保卡 | C380: 冲蒌 | D380: 周丽媚 | E380: 女 | F380: 44072219520606354342 | G380: 440722195206063543 | H380: 肢体 | I380: 二级 | J380: 广东省台山市冲蒌镇新围胜塘村5巷6号 | K380: 6228230616694913563 | L380: 周丽媚 | M380: 中国农业银行股份有限公司台山市支行
A381: =ROW()-2 -> 379 | B381: 社保卡 | C381: 冲蒌 | D381: 陈玉莲 | E381: 女 | F381: 44072219461010354942 | G381: 440722194610103549 | H381: 肢体 | I381: 二级 | J381: 广东省台山市冲蒌镇西坑东头村10巷9号西 | K381: 6228230616692390962 | L381: 陈玉莲 | M381: 中国农业银行股份有限公司台山市支行
A382: =ROW()-2 -> 380 | B382: 社保卡 | C382: 冲蒌 | D382: 李春桂 | E382: 女 | F382: 44072219500715358941 | G382: 440722195007153589 | H382: 肢体 | I382: 一级 | J382: 广东省台山市冲蒌镇新围莲洲村5巷3号西 | K382: 6228230617116913066 | L382: 李春桂 | M382: 中国农业银行股份有限公司台山市支行
A383: =ROW()-2 -> 381 | B383: 社保卡 | C383: 冲蒌 | D383: 林树森 | E383: 男 | F383: 44072219471203351042 | G383: 440722194712033510 | H383: 肢体 | I383: 二级 | J383: 广东省台山市冲蒌镇新围胜塘村6巷7号 | K383: 6228230616729980967 | L383: 林树森 | M383: 中国农业银行股份有限公司台山市支行
A384: =ROW()-2 -> 382 | B384: 社保卡 | C384: 冲蒌 | D384: 李适意 | E384: 女 | F384: 44072219530826352X42 | G384: 44072219530826352X | H384: 肢体 | I384: 二级 | J384: 广东省台山市冲蒌镇新围胜塘村6巷5号 | K384: 6228230616695582565 | L384: 李适意 | M384: 中国农业银行股份有限公司台山市支行
A385: =ROW()-2 -> 383 | B385: 社保卡 | C385: 冲蒌 | D385: 伍凤霞 | E385: 女 | F385: 44072219441118352341 | G385: 440722194411183523 | H385: 肢体 | I385: 一级 | J385: 广东省台山市冲蒌镇达材湖安村10巷1号西 | K385: 6228230617116889761 | L385: 伍凤霞 | M385: 中国农业银行股份有限公司台山市支行
A386: =ROW()-2 -> 384 | B386: 社保卡 | C386: 冲蒌 | D386: 赵雪媚 | E386: 女 | F386: 44072219550714356342 | G386: 440722195507143563 | H386: 肢体 | I386: 二级 | J386: 广东省台山市冲蒌镇伞塘锦元村5巷8号 | K386: 6228230616729960662 | L386: 赵雪媚 | M386: 中国农业银行股份有限公司台山市支行
A387: =ROW()-2 -> 385 | B387: 社保卡 | C387: 冲蒌 | D387: 伍俊 | E387: 男 | F387: 44078119920914351254 | G387: 440781199209143512 | H387: 智力 | I387: 四级 | J387: 广东省台山市冲蒌镇竹洛村20巷1号东 | K387: 6228230617609416361 | L387: 伍俊 | M387: 中国农业银行股份有限公司台山市支行
A388: =ROW()-2 -> 386 | B388: 社保卡 | C388: 冲蒌 | D388: 麦悦威 | E388: 男 | F388: 44078119901011351971 | G388: 440781199010113519 | H388: 多重 | I388: 听力一级+言语一级 | J388: 广东省台山市冲蒌镇自由路9号 | K388: 6217280734001023257 | L388: 麦悦威 | M388: 广东台山农村商业银行股份有限公司
A389: =ROW()-2 -> 387 | B389: 社保卡 | C389: 冲蒌 | D389: 伍光业 | E389: 男 | F389: 44072219591030351241 | G389: 440722195910303512 | H389: 肢体 | I389: 一级 | J389: 广东省台山市冲蒌镇竹洛村24巷3号 | K389: 6228230616764437568 | L389: 伍光业 | M389: 中国农业银行股份有限公司台山市支行
A390: =ROW()-2 -> 388 | B390: 社保卡 | C390: 冲蒌 | D390: 伍德荣 | E390: 男 | F390: 44072219401111357741 | G390: 440722194011113577 | H390: 肢体 | I390: 一级 | J390: 广东省台山市冲蒌镇八家齐洛村19巷2号南 | K390: 6228230616733271668 | L390: 伍德荣 | M390: 中国农业银行股份有限公司台山市支行
A391: =ROW()-2 -> 389 | B391: 社保卡 | C391: 冲蒌 | D391: 许麟生 | E391: 男 | F391: 44072219500413353142 | G391: 440722195004133531 | H391: 肢体 | I391: 二级 | J391: 广东省台山市冲蒌镇前锋天荣村11巷2号 | K391: 6228230616696618566 | L391: 许麟生 | M391: 中国农业银行股份有限公司台山市支行
A392: =ROW()-2 -> 390 | B392: 社保卡 | C392: 冲蒌 | D392: 陈均培 | E392: 男 | F392: 44072219660422351963 | G392: 440722196604223519 | H392: 精神 | I392: 三级 | J392: 广东省台山市冲蒌镇三和表岗村5巷3号 | K392: 6217280734000957729 | L392: 陈均培 | M392: 广东台山农村商业银行股份有限公司 | N392: 新增
A393: =ROW()-2 -> 391 | B393: 社保卡 | C393: 冲蒌 | D393: 李安儒 | E393: 男 | F393: 44078119751231351154 | G393: 440781197512313511 | H393: 智力 | I393: 四级 | J393: 广东省台山市冲蒌镇稔坪东头村1巷1号 | K393: 6217280734000921022 | L393: 李安儒 | M393: 广东台山农村商业银行股份有限公司 | N393: 新增
A394: =ROW()-2 -> 392 | B394: 社保卡 | C394: 冲蒌 | D394: 陈启强 | E394: 男 | F394: 44072219610108351842 | G394: 440722196101083518 | H394: 肢体 | I394: 二级 | J394: 广东省台山市冲蒌镇八家逢源村十巷1号西 | K394: 6228230616707455966 | L394: 陈启强 | M394: 中国农业银行股份有限公司台山市支行 | N394: 新增

Sheet 2023年2月残疾人生活津贴
A1: 台山市残疾人生活津贴（低保残疾人）发放名册（2023年2月220元）
A3: 序号 | B3: 请核对非人账号发放 | C3: 镇别 | D3: 姓名 | E3: 性别 | F3: 残疾人证号码 | G3: 身份证号码 | H3: 残疾类别 | I3: 残疾等级 | J3: 详细居住地址 | K3: 银行账号 | L3: 户名 | M3: 发放银行 | N3: 备注 | P3: 村（居） | Q3: 监护人姓名 | R3: 关系
A4: =ROW()-3 -> 1 | B4: 社保卡 | C4: 冲蒌 | D4: 伍杏梨 | E4: 女 | F4: 44072219711031352762 | G4: =LEFT(F4,18) -> 440722197110313527 | H4: 精神 | I4: 二级 | J4: 台山市冲蒌镇西海连山村8巷1号 | K4: 6228230616707641060 | L4: 伍杏梨 | M4: 中国农业银行股份有限公司台山市支行 | O4: =IF(D4=L4,"相同","不相同") -> 相同
A5: =ROW()-3 -> 2 | B5: 社保卡 | C5: 冲蒌 | D5: 赵艳琼 | E5: 女 | F5: 44078119940824354052 | G5: =LEFT(F5,18) -> 440781199408243540 | H5: 智力 | I5: 二级 | J5: 台山市冲蒌镇稔坪龙湾村7巷2号北 | K5: 6228230617153831668 | L5: 赵艳琼 | M5: 中国农业银行股份有限公司台山市支行 | O5: =IF(D5=L5,"相同","不相同") -> 相同
A6: =ROW()-3 -> 3 | B6: 社保卡 | C6: 冲蒌 | D6: 陈慕贞 | E6: 女 | F6: 44078119731112352762 | G6: =LEFT(F6,18) -> 440781197311123527 | H6: 精神 | I6: 二级 | J6: 台山市冲蒌镇竹洛村9巷8号 | K6: 6228230617120721760 | L6: 陈慕贞 | M6: 中国农业银行股份有限公司台山市支行 | O6: =IF(D6=L6,"相同","不相同") -> 相同
A7: =ROW()-3 -> 4 | B7: 社保卡 | C7: 冲蒌 | D7: 蔡福钦 | E7: 男 | F7: 44072219510511351342 | G7: =LEFT(F7,18) -> 440722195105113513 | H7: 肢体 | I7: 二级 | J7: 台山市冲蒌镇三和福田村6巷3号西 | K7: 6228230616765511866 | L7: 蔡福钦 | M7: 中国农业银行股份有限公司台山市支行 | O7: =IF(D7=L7,"相同","不相同") -> 相同
A8: =ROW()-3 -> 5 | B8: 社保卡 | C8: 冲蒌 | D8: 麦树威 | E8: 男 | F8: 44072219700208355X63 | G8: =LEFT(F8,18) -> 44072219700208355X | H8: 精神 | I8: 三级 | J8: 台山市冲蒌镇竹湖东安村二巷4号 | K8: 6228230616692426261 | L8: 麦树威 | M8: 中国农业银行股份有限公司台山市支行 | O8: =IF(D8=L8,"相同","不相同") -> 相同
A9: =ROW()-3 -> 6 | B9: 社保卡 | C9: 冲蒌 | D9: 叶玉秀 | E9: 女 | F9: 44072219530921352431 | G9: =LEFT(F9,18) -> 440722195309213524 | H9: 语言 | I9: 一级 | J9: 台山市冲蒌镇白岗永盛村11巷5号 | K9: 6228230616707563561 | L9: 叶玉秀 | M9: 中国农业银行股份有限公司台山市支行 | O9: =IF(D9=L9,"相同","不相同") -> 相同
A10: =ROW()-3 -> 7 | B10: 存折 | C10: 冲蒌 | D10: 伍伟权 | E10: 男 | F10: 44078119980822351441 | G10: =LEFT(F10,18) -> 440781199808223514 | H10: 肢体 | I10: 一级 | J10: 冲蒌镇竹洛村18巷2号 | K10: 80010002053981914 | L10: 伍伟权 | M10: 广东台山农村商业银行股份有限公司 | O10: =IF(D10=L10,"相同","不相同") -> 相同
A11: =ROW()-3 -> 8 | B11: 社保卡 | C11: 冲蒌 | D11: 伍月秀 | E11: 女 | F11: 44072219600706352942 | G11: =LEFT(F11,18) -> 440722196007063529 | H11: 肢体 | I11: 二级 | J11: 冲蒌镇官窦朝阳村20巷17号北 | K11: 6228230616692350461 | L11: 伍月秀 | M11: 中国农业银行股份有限公司台山市支行 | O11: =IF(D11=L11,"相同","不相同") -> 相同
A12: =ROW()-3 -> 9 | B12: 社保卡 | C12: 冲蒌 | D12: 伍永霞 | E12: 女 | F12: 44078119741014354X52 | G12: =LEFT(F12,18) -> 44078119741014354X | H12: 智力 | I12: 二级 | J12: 冲蒌镇官窦村三巷15号 | K12: 6228230617153820869 | L12: 伍永霞 | M12: 中国农业银行股份有限公司台山市支行 | O12: =IF(D12=L12,"相同","不相同") -> 相同
A13: =ROW()-3 -> 10 | B13: 社保卡 | C13: 冲蒌 | D13: 李洽培 | E13: 男 | F13: 44072219621129355944 | G13: =LEFT(F13,18) -> 440722196211293559 | H13: 肢体 | I13: 四级 | J13: 冲蒌镇稔坪东头村10巷5号 | K13: 6228230616696848064 | L13: 李洽培 | M13: 中国农业银行股份有限公司台山市支行 | O13: =IF(D13=L13,"相同","不相同") -> 相同
A14: =ROW()-3 -> 11 | B14: 社保卡 | C14: 冲蒌 | D14: 梁国锐 | E14: 男 | F14: 44072219550313353643 | G14: =LEFT(F14,18) -> 440722195503133536 | H14: 肢体 | I14: 三级 | J14: 冲蒌镇冲洋龙池旧村5巷6号 | K14: 6228230616764668964 | L14: 梁国锐 | M14: 中国农业银行股份有限公司台山市支行 | O14: =IF(D14=L14,"相同","不相同") -> 相同
A15: =ROW()-3 -> 12 | B15: 社保卡 | C15: 冲蒌 | D15: 伍慧娜 | E15: 女 | F15: 44078119770104352253 | G15: =LEFT(F15,18) -> 440781197701043522 | H15: 多重 | I15: 精神二级+智力三级 | J15: 冲蒌镇新屋南和坑村十巷4号北 | K15: 6228230617156269064 | L15: 伍慧娜 | M15: 中国农业银行股份有限公司台山市支行 | O15: =IF(D15=L15,"相同","不相同") -> 相同
... A54: =ROW()-3 -> 51 | B54: 社保卡 | C54: 冲蒌 | D54: 蔡碧园 | E54: 女 | F54: 44078119770521352552 | G54: =LEFT(F54,18) -> 440781197705213525 | H54: 智力 | I54: 二级 | J54: 冲蒌镇白岗永盛村11巷5号 | K54: 6228230616707534463 | L54: 蔡碧园 | M54: 中国农业银行股份有限公司台山市支行 | O54: =IF(D54=L54,"相同","不相同") -> 相同
A55: =ROW()-3 -> 52 | B55: 社保卡 | C55: 冲蒌 | D55: 陈周源 | E55: =VLOOKUP(D55,[1]残疾人人口基础数据!$A:$C,3,0) -> 男 | F55: 44072219570902351943 | G55: =LEFT(F55,18) -> 440722195709023519 | H55: 肢体 | I55: 三级 | J55: 冲蒌镇朝中朝宁村5巷37号 | K55: 6228230616730380462 | L55: 陈周源 | M55: 中国农业银行股份有限公司台山市支行 | O55: =IF(D55=L55,"相同","不相同") -> 相同
A56: =ROW()-3 -> 53 | B56: 社保卡 | C56: 冲蒌 | D56: 李伟新 | E56: =VLOOKUP(D56,[1]残疾人人口基础数据!$A:$C,3,0) -> 男 | F56: 44078119820113351844 | G56: =LEFT(F56,18) -> 440781198201133518 | H56: 肢体 | I56: 四级 | J56: 冲蒌镇达材西盛村5巷3号南 | K56: 6228230616707583866 | L56: 李伟新 | M56: 中国农业银行股份有限公司台山市支行 | O56: =IF(D56=L56,"相同","不相同") -> 相同
A57: =ROW()-3 -> 54 | B57: 社保卡 | C57: 冲蒌 | D57: 陈秀仪 | E57: =VLOOKUP(D57,[1]残疾人人口基础数据!$A:$C,3,0) -> 女 | F57: 44072219731214354652 | G57: =LEFT(F57,18) -> 440722197312143546 | H57: 智力 | I57: 二级 | J57: 冲蒌镇官窦村7巷9号 | K57: 6228230617066837067 | L57: 陈秀仪 | M57: 中国农业银行股份有限公司台山市支行 | O57: =IF(D57=L57,"相同","不相同") -> 相同
A58: =ROW()-3 -> 55 | B58: 社保卡 | C58: 冲蒌 | D58: 李亚考 | E58: 女 | F58: 44072219690401476X63 | G58: =LEFT(F58,18) -> 44072219690401476X | H58: 精神 | I58: 二级 | J58: 冲蒌镇竹湖村九巷1号中 | K58: 6228230616695594362 | L58: 李亚考 | M58: 中国农业银行股份有限公司台山市支行 | O58: =IF(D58=L58,"相同","不相同") -> 相同
A59: =ROW()-3 -> 56 | B59: 社保卡 | C59: 冲蒌 | D59: 邓启英 | E59: 男 | F59: 44072219670114351042 | G59: =LEFT(F59,18) -> 440722196701143510 | H59: 肢体 | I59: 二级 | J59: 冲蒌镇白岗村15巷1号 | K59: 6228230616707542961 | L59: 邓启英 | M59: 中国农业银行股份有限公司台山市支行 | O59: =IF(D59=L59,"相同","不相同") -> 相同
A60: =ROW()-3 -> 57 | B60: 社保卡 | C60: 冲蒌 | D60: 李活龙 | E60: 男 | F60: 44078120060303351X53 | G60: =LEFT(F60,18) -> 44078120060303351X | H60: 智力 | I60: 三级 | J60: 冲蒌镇达材碧安村5巷4号西 | K60: 6228230617391179961 | L60: 李活龙 | M60: 中国农业银行股份有限公司台山市支行 | O60: =IF(D60=L60,"相同","不相同") -> 相同
A61: =ROW()-3 -> 58 | B61: 社保卡 | C61: 冲蒌 | D61: 伍啟辉 | E61: 男 | F61: 44078119790804351144 | G61: =LEFT(F61,18) -> 440781197908043511 | H61: 肢体 | I61: 四级 | J61: 冲蒌镇官窦村九巷3号南 | K61: 6228230617153818962 | L61: 伍啟辉 | M61: 中国农业银行股份有限公司台山市支行 | O61: =IF(D61=L61,"相同","不相同") -> 相同
A62: =ROW()-3 -> 59 | B62: 社保卡 | C62: 冲蒌 | D62: 伍进文 | E62: 男 | F62: 44078119800128351162 | G62: =LEFT(F62,18) -> 440781198001283511 | H62: 精神 | I62: 二级 | J62: 冲蒌镇竹洛村14巷15号西 | K62: 6228230617062561067 | L62: 伍进文 | M62: 中国农业银行股份有限公司台山市支行 | O62: =IF(D62=L62,"相同","不相同") -> 相同
A63: =ROW()-3 -> 60 | B63: 社保卡 | C63: 冲蒌 | D63: 吴晓斌 | E63: 男 | F63: 44078120020223353753 | G63: =LEFT(F63,18) -> 440781200202233537 | H63: 智力 | I63: 三级 | J63: 冲蒌镇达材东兴村3巷6号 | K63: 6228230617391184169 | L63: 吴晓斌 | M63: 中国农业银行股份有限公司台山市支行 | O63: =IF(D63=L63,"相同","不相同") -> 相同
A64: =ROW()-3 -> 61 | B64: 社保卡 | C64: 冲蒌 | D64: 伍小娟 | E64: 女 | F64: 44072219621203352142 | G64: =LEFT(F64,18) -> 440722196212033521 | H64: 肢体 | I64: 二级 | J64: 冲蒌镇新屋窑岗村六巷4号 | K64: 6228230617064110764 | L64: 伍小娟 | M64: 中国农业银行股份有限公司台山市支行 | O64: =IF(D64=L64,"相同","不相同") -> 相同
A65: =ROW()-3 -> 62 | B65: 社保卡 | C65: 冲蒌 | D65: 刘惠琼 | E65: 女 | F65: 44072219750207352612 | G65: =LEFT(F65,18) -> 440722197502073526 | H65: 听力 | I65: 二级 | J65: 冲蒌镇八家围安村四巷4号 | K65: 6228230617069597163 | L65: 刘惠琼 | M65: 中国农业银行股份有限公司台山市支行 | O65: =IF(D65=L65,"相同","不相同") -> 相同
A66: =ROW()-3 -> 63 | B66: 社保卡 | C66: 冲蒌 | D66: 黎金芬 | E66: 女 | F66: 51222119690408584752 | G66: =LEFT(F66,18) -> 512221196904085847 | H66: 智力 | I66: 二级 | J66: 冲蒌镇新屋新塘村4号东 | K66: 6228230616758736264 | L66: 黎金芬 | M66: 中国农业银行股份有限公司台山市支行 | O66: =IF(D66=L66,"相同","不相同") -> 相同
A67: =ROW()-3 -> 64 | B67: 社保卡 | C67: 冲蒌 | D67: 梁振财 | E67: 男 | F67: 44072219550311351942 | G67: =LEFT(F67,18) -> 440722195503113519 | H67: 肢体 | I67: 二级 | J67: 冲蒌镇新围咸塘村9巷6号东 | K67: 6228230617611527361 | L67: 梁振财 | M67: 中国农业银行股份有限公司台山市支行 | O67: =IF(D67=L67,"相同","不相同") -> 相同
A68: =ROW()-3 -> 65 | B68: 社保卡 | C68: 冲蒌 | D68: 伍锦凤 | E68: 女 | F68: 44078119651218354852 | G68: =LEFT(F68,18) -> 440781196512183548 | H68: 智力 | I68: 二级 | J68: 冲蒌镇新围村13巷9号东 | K68: 6217280734000545490 | L68: 伍锦凤 | M68: 广东台山农村商业银行股份有限公司 | O68: =IF(D68=L68,"相同","不相同") -> 相同
A69: =ROW()-3 -> 66 | B69: 社保卡 | C69: 冲蒌 | D69: 伍灼文 | E69: 男 | F69: 44072219750922351544 | G69: =LEFT(F69,18) -> 440722197509223515 | H69: 肢体 | I69: 四级 | J69: 冲蒌镇官窦村16巷10号北 | K69: 6228230618003975572 | L69: 伍灼文 | M69: 中国农业银行股份有限公司台山市支行 | O69: =IF(D69=L69,"相同","不相同") -> 相同
... A135: =ROW()-3 -> 132 | B135: 社保卡 | C135: 冲蒌 | D135: 倪美娟 | E135: 男 | F135: 44078119890829356651 | G135: =LEFT(F135,18) -> 440781198908293566 | H135: 智力 | I135: 一级 | J135: 冲蒌镇新屋窑岗村七巷7号 | K135: 6228230617156267969 | L135: 倪美娟 | M135: 中国农业银行股份有限公司台山市支行 | O135: =IF(D135=L135,"相同","不相同") -> 相同
A136: =ROW()-3 -> 133 | B136: 社保卡 | C136: 冲蒌 | D136: 伍光业 | E136: 男 | F136: 44072219591030351241 | G136: =LEFT(F136,18) -> 440722195910303512 | H136: 肢体 | I136: 一级 | J136: 广东省台山市冲蒌镇竹洛村24巷3号 | K136: 6228230616764437568 | L136: 伍光业 | M136: 中国农业银行股份有限公司台山市支行
A137: =ROW()-3 -> 134 | B137: 社保卡 | C137: 冲蒌 | D137: 伍德荣 | E137: 男 | F137: 44072219401111357741 | G137: =LEFT(F137,18) -> 440722194011113577 | H137: 肢体 | I137: 一级 | J137: 广东省台山市冲蒌镇八家齐洛村19巷2号南 | K137: 6228230616733271668 | L137: 伍德荣 | M137: 中国农业银行股份有限公司台山市支行

Sheet 2023年2月重度护理补贴
A1: 台山市残疾人重度护理补贴发放名册（2023年2月280元）
A2: 序号 | B2: 请核对（非人账号发放和核对账号 | C2: 镇别 | D2: 姓名 | E2: 性别 | F2: 残疾人证号 | G2: 身份证号码 | H2: 残疾类别 | I2: 级别 | J2: 地址 | K2: 银行帐号 | L2: 户名 | M2: 发放银行 | N2: 备注 | O2: 村（居） | P2: 监护人姓名 | Q2: 关系
A3: =ROW()-2 -> 1 | B3: 社保卡 | C3: 冲蒌 | D3: 梁炎洪 | E3: 男 | F3: 44078119880823353111 | G3: 440781198808233531 | H3: 视力 | I3: 一级 | J3: 冲蒌镇新屋南和坑村13巷3号 | K3: 6228230616729992863 | L3: 梁炎洪 | M3: 中国农业银行股份有限公司台山市支行
A4: =ROW()-2 -> 2 | B4: 存折 | C4: 冲蒌 | D4: 梁碧霞 | E4: 女 | F4: 44072219691226352062 | G4: =MID(F4,1,18) -> 440722196912263520 | H4: 精神 | I4: 二级 | J4: 冲蒌镇官窦龙塘村9巷6号北 | K4: 80010001327562404 | L4: 梁碧霞 | M4: 广东台山农村商业银行股份有限公司
A5: =ROW()-2 -> 3 | B5: 社保卡 | C5: 冲蒌 | D5: 麦湛生 | E5: 男 | F5: 44078119860119355271 | G5: =MID(F5,1,18) -> 440781198601193552 | H5: 听力 | I5: 二级 | J5: 冲蒌镇友爱路10号 | K5: 6217212012015000584 | L5: 麦湛生 | M5: 中国工商银行股份有限公司台山支行
A6: =ROW()-2 -> 4 | B6: 存折 | C6: 冲蒌 | D6: 陈雅荷 | E6: 女 | F6: 44078119840705382062 | G6: =LEFT(F6,18) -> 440781198407053820 | H6: 精神 | I6: 二级 | J6: 斗山镇五福那马村6巷19号 | K6: 80010001645714412 | L6: 陈雅荷 | M6: 广东台山农村商业银行股份有限公司
A7: =ROW()-2 -> 5 | B7: 社保卡 | C7: 冲蒌 | D7: 黄彩莲 | E7: 女 | F7: 44072219421025352111 | G7: =LEFT(F7,18) -> 440722194210253521 | H7: 视力 | I7: 一级 | J7: 冲蒌镇八家逢源村四巷1号 | K7: 6228230616707522062 | L7: 黄彩莲 | M7: 中国农业银行股份有限公司台山市支行
A8: =ROW()-2 -> 6 | B8: 社保卡 | C8: 冲蒌 | D8: 刘灿豪 | E8: 男 | F8: 44072219480420351342 | G8: =LEFT(F8,18) -> 440722194804203513 | H8: 肢体 | I8: 二级 | J8: 冲蒌镇达材西就村10巷1号 | K8: 6228230617116888565 | L8: 刘灿豪 | M8: 中国农业银行股份有限公司台山市支行
A9: =ROW()-2 -> 7 | B9: 社保卡 | C9: 冲蒌 | D9: 伍启云 | E9: 男 | F9: 44072219500726353442 | G9: =LEFT(F9,18) -> 440722195007263534 | H9: 肢体 | I9: 二级 | J9: 冲蒌镇竹洛村27巷3号 | K9: 6228230616765578360 | L9: 伍启云 | M9: 中国农业银行股份有限公司台山市支行
A10: =ROW()-2 -> 8 | B10: 社保卡 | C10: 冲蒌 | D10: 伍柏祥 | E10: 男 | F10: 44072219530327353442 | G10: =LEFT(F10,18) -> 440722195303273534 | H10: 肢体 | I10: 二级 | J10: 冲蒌镇新围胜塘村5巷3号西 | K10: 6228230616729981965 | L10: 伍柏祥 | M10: 中国农业银行股份有限公司台山市支行
A11: =ROW()-2 -> 9 | B11: 社保卡 | C11: 冲蒌 | D11: 伍仕安 | E11: 男 | F11: 44072219531010351742 | G11: =LEFT(F11,18) -> 440722195310103517 | H11: 肢体 | I11: 二级 | J11: 冲蒌镇官窦村41巷11号 | K11: 6228230615346938366 | L11: 伍仕安 | M11: 中国农业银行股份有限公司台山市支行
A12: =ROW()-2 -> 10 | B12: 社保卡 | C12: 冲蒌 | D12: 梅兰素 | E12: 女 | F12: 44072219540301354542 | G12: =LEFT(F12,18) -> 440722195403013545 | H12: 肢体 | I12: 二级 | J12: 冲蒌镇西海河洲村6巷2号南 | K12: 6228230616733413062 | L12: 梅兰素 | M12: 中国农业银行股份有限公司台山市支行
A13: =ROW()-2 -> 11 | B13: 社保卡 | C13: 冲蒌 | D13: 陈青平 | E13: 男 | F13: 44072219540723351071 | G13: =LEFT(F13,18) -> 440722195407233510 | H13: 多重 | I13: 听力一级+言语一级 | J13: 冲蒌镇伞塘锦元村6巷1号北 | K13: 6228230616764378267 | L13: 陈青平 | M13: 中国农业银行股份有限公司台山市支行
A14: =ROW()-2 -> 12 | B14: 社保卡 | C14: 冲蒌 | D14: 李银娟 | E14: 女 | F14: 44072219561027432642 | G14: =LEFT(F14,18) -> 440722195610274326 | H14: 肢体 | I14: 二级 | J14: 冲蒌镇八家潮美村八巷3号西 | K14: 6228230617069594061 | L14: 李银娟 | M14: 中国农业银行股份有限公司台山市支行
A15: =ROW()-2 -> 13 | B15: 社保卡 | C15: 冲蒌 | D15: 麦瑞英 | E15: 女 | F15: 44072219571116352942 | G15: =LEFT(F15,18) -> 440722195711163529 | H15: 肢体 | I15: 二级 | J15: 冲蒌镇竹湖村十六巷3号 | K15: 6228230617116920467 | L15: 麦瑞英 | M15: 中国农业银行股份有限公司台山市支行
A16: =ROW()-2 -> 14 | B16: 社保卡 | C16: 冲蒌 | D16: 余瑞波 | E16: 男 | F16: 44072219590125351742 | G16: =LEFT(F16,18) -> 440722195901253517 | H16: 肢体 | I16: 二级 | J16: 冲蒌镇达材永安村7巷3号 | K16: 6228230616707608762 | L16: 余瑞波 | M16: 中国农业银行股份有限公司台山市支行
A17: =ROW()-2 -> 15 | B17: 社保卡 | C17: 冲蒌 | D17: 伍月秀 | E17: 女 | F17: 44072219600706352942 | G17: =LEFT(F17,18) -> 440722196007063529 | H17: 肢体 | I17: 二级 | J17: 冲蒌镇官窦朝阳村二十巷17号北 | K17: 6228230616692350461 | L17: 伍月秀 | M17: 中国农业银行股份有限公司台山市支行
... A258: =ROW()-2 -> 256 | B258: 社保卡 | C258: 冲蒌 | D258: 陈小珠 | E258: 女 | F258: 44072219650806384252 | G258: =LEFT(F258,18) -> 440722196508063842 | H258: 智力 | I258: 二级 | J258: 冲蒌镇白岗鹅腔村新鹅里2巷1号 | K258: 6217280734000487628 | L258: 陈小珠 | M258: 广东台山农村商业银行股份有限公司
A259: =ROW()-2 -> 257 | B259: 社保卡 | C259: 冲蒌 | D259: 蔡秋月 | E259: 女 | F259: 44072219490710356662 | G259: =LEFT(F259,18) -> 440722194907103566 | H259: 精神 | I259: =VLOOKUP(D259,[2]残疾人人口基础数据!$A:$E,5,0) -> 二级 | J259: 冲蒌镇竹洛村8巷9号 | K259: 6228230616764440869 | L259: 蔡秋月 | M259: 中国农业银行股份有限公司台山市支行
A260: =ROW()-2 -> 258 | B260: 社保卡 | C260: 冲蒌 | D260: 伍美婵 | E260: =VLOOKUP(D260,[2]残疾人人口基础数据!$A:$C,3,0) -> 女 | F260: 44072219510902352354 | G260: =LEFT(F260,18) -> 440722195109023523 | H260: 智力 | I260: =VLOOKUP(D260,[2]残疾人人口基础数据!$A:$E,5,0) -> 四级 | J260: 冲蒌镇达材汉塘村7巷1号西 | K260: 6228230616733361964 | L260: 伍美婵 | M260: 中国农业银行股份有限公司台山市支行
A261: =ROW()-2 -> 259 | B261: 社保卡 | C261: 冲蒌 | D261: 刘瑞卿 | E261: =VLOOKUP(D261,[2]残疾人人口基础数据!$A:$C,3,0) -> 女 | F261: 44072219580710352063 | G261: =LEFT(F261,18) -> 440722195807103520 | H261: 精神 | I261: =VLOOKUP(D261,[2]残疾人人口基础数据!$A:$E,5,0) -> 三级 | J261: 冲蒌镇白岗坪岗村9巷2号 | K261: 6228230616707558462 | L261: 刘瑞卿 | M261: 中国农业银行股份有限公司台山市支行
A262: =ROW()-2 -> 260 | B262: 社保卡 | C262: 冲蒌 | D262: 陈元有 | E262: =VLOOKUP(D262,[2]残疾人人口基础数据!$A:$C,3,0) -> 男 | F262: 44072219641126351431 | G262: =LEFT(F262,18) -> 440722196411263514 | H262: 语言 | I262: =VLOOKUP(D262,[2]残疾人人口基础数据!$A:$E,5,0) -> 一级 | J262: 冲蒌镇三和南泮村5巷1号 | K262: 6228230616729947065 | L262: 陈元有 | M262: 中国农业银行股份有限公司台山市支行
A263: =ROW()-2 -> 261 | B263: 社保卡 | C263: 冲蒌 | D263: 邓珍华 | E263: 男 | F263: 44078119781031353663 | G263: =LEFT(F263,18) -> 440781197810313536 | H263: 精神 | I263: 三级 | J263: 冲蒌镇新屋安仁村九巷7号东 | K263: 6228230618001880576 | L263: 邓珍华 | M263: 中国农业银行股份有限公司台山市支行
A264: =ROW()-2 -> 262 | B264: 社保卡 | C264: 冲蒌 | D264: 伍健安 | E264: 男 | F264: 44072219630104353762 | G264: =LEFT(F264,18) -> 440722196301043537 | H264: 精神 | I264: 二级 | J264: 冲蒌镇新围胜围村10巷1号 | K264: 6217280734000289883 | L264: 伍健安 | M264: 广东台山农村商业银行股份有限公司
A265: =ROW()-2 -> 263 | B265: 社保卡 | C265: 冲蒌 | D265: 袁伟强 | E265: 男 | F265: 44078119971028355164 | G265: =LEFT(F265,18) -> 440781199710283551 | H265: 精神 | I265: 四级 | J265: 冲蒌镇朝中福安村2巷6号东 | K265: 6228230617153839760 | L265: 袁伟强 | M265: 中国农业银行股份有限公司台山市支行
A266: =ROW()-2 -> 264 | B266: 社保卡 | C266: 冲蒌 | D266: 吴宇铖 | E266: 男 | F266: 44078120180421351171 | G266: =LEFT(F266,18) -> 440781201804213511 | H266: 多重 | I266: 智力一级+肢体二级 | J266: 冲蒌镇达材永兴村5巷5号 | K266: 6217280734000568906 | L266: 吴宇铖 | M266: 广东台山农村商业银行股份有限公司
A267: =ROW()-2 -> 265 | B267: 社保卡 | C267: 冲蒌 | D267: 伍春凤 | E267: 女 | F267: 44072219270117352722 | G267: =LEFT(F267,18) -> 440722192701173527 | H267: 听力 | I267: 二级 | J267: 冲蒌镇白岗村新村路西2巷2号 | K267: 6228230616733314963 | L267: 伍春凤 | M267: 中国农业银行股份有限公司台山市支行
A268: =ROW()-2 -> 266 | B268: 社保卡 | C268: 冲蒌 | D268: 刘子峰 | E268: 男 | F268: 44078120130528351573 | G268: =LEFT(F268,18) -> 440781201305283515 | H268: 多重 | I268: 智力三级+精神三级 | J268: 冲蒌镇达材汉塘村6巷11号西 | K268: 6217280734000583426 | L268: 刘子峰 | M268: 广东台山农村商业银行股份有限公司
A269: =ROW()-2 -> 267 | B269: 社保卡 | C269: 冲蒌 | D269: 伍惠仪 | E269: 女 | F269: 44078119950307384253 | G269: =LEFT(F269,18) -> 440781199503073842 | H269: 智力 | I269: 三级 | J269: 斗山镇福场清泉村 | K269: 6228230617566504167 | L269: 伍惠仪 | M269: 中国农业银行股份有限公司台山市支行
A270: =ROW()-2 -> 268 | B270: 社保卡 | C270: 冲蒌 | D270: 伍炳湛 | E270: 男 | F270: 44072219590802351122 | G270: =LEFT(F270,18) -> 440722195908023511 | H270: 听力 | I270: 二级 | J270: 广东省台山市冲蒌镇光荣路21号 | K270: 6214621234000617931 | L270: 伍炳湛 | M270: 广发银行股份有限公司台山分行
A271: =ROW()-2 -> 269 | B271: 社保卡 | C271: 冲蒌 | D271: 曹杏园 | E271: 女 | F271: 45252319630206144561 | G271: =LEFT(F271,18) -> 452523196302061445 | H271: 精神 | I271: 一级 | J271: 广东省台山市冲蒌镇稔坪高安村11巷4号 | K271: 6217567000022220254 | L271: 曹杏园 | M271: 中国银行股份有限公司江门台山支行
A272: =ROW()-2 -> 270 | B272: 社保卡 | C272: 冲蒌 | D272: 李伟明 | E272: 男 | F272: 44072219630214351363 | G272: =LEFT(F272,18) -> 440722196302143513 | H272: 精神 | I272: 三级 | J272: 广东省台山市冲蒌镇达材东成村2巷2号 | K272: 6228230616707583668 | L272: 李伟明 | M272: 中国农业银行股份有限公司台山市支行
A273: =ROW()-2 -> 271 | B273: 社保卡 | C273: 冲蒌 | D273: 刘礼群 | E273: 男 | F273: 44072219630625353342 | G273: =LEFT(F273,18) -> 440722196306253533 | H273: 肢体 | I273: 二级 | J273: 广东省台山市冲蒌镇伞塘平月村4巷2号 | K273: 6217280734000493741 | L273: 刘礼群 | M273: 广东台山农村商业银行股份有限公司
A274: =ROW()-2 -> 272 | B274: 社保卡 | C274: 冲蒌 | D274: 陈婉金 | E274: 女 | F274: 44072219540606354862 | G274: =LEFT(F274,18) -> 440722195406063548 | H274: 精神 | I274: 二级 | J274: 广东省台山市冲蒌镇冲洋龙池新村9巷7号 | K274: 6228230617116880760 | L274: 陈婉金 | M274: 中国农业银行股份有限公司台山市支行
... A357: =ROW()-2 -> 355 | B357: 社保卡 | C357: 冲蒌 | D357: 伍彦宇 | E357: 男 | F357: 440781201505313512 | G357: =LEFT(F357,18) -> 440781201505313512 | H357: 精神 | I357: 一级 | J357: 冲蒌镇官窦村六巷11号 | K357: 6217280734000893643 | L357: 伍彦宇 | M357: 广东台山农村商业银行股份有限公司
A358: =ROW()-2 -> 356 | B358: 社保卡 | C358: 冲蒌 | D358: 伍远照 | E358: 男 | F358: 44072219711229351553 | G358: 440722197112293515 | H358: 智力 | I358: 三级 | J358: 冲蒌镇竹洛村12巷12号东 | K358: 6228230617064089067 | L358: 伍远照 | M358: 中国农业银行股份有限公司台山市支行
A359: =ROW()-2 -> 357 | B359: 社保卡 | C359: 冲蒌 | D359: 陈礼尧 | E359: 男 | F359: 44072219530630351642 | G359: 440722195306303516 | H359: 肢体 | I359: 二级 | J359: 冲蒌镇竹洛坭涌村6巷6号东 | K359: 6228230617064083862 | L359: 陈礼尧 | M359: 中国农业银行股份有限公司台山市支行
A360: =ROW()-2 -> 358 | B360: 社保卡 | C360: 冲蒌 | D360: 麦建和 | E360: 男 | F360: 44072219670226351463 | G360: 440722196702263514 | H360: 精神 | I360: 三级 | J360: 冲蒌镇竹湖江北村三巷9号 | K360: 6228230616758694760 | L360: 麦建和 | M360: 中国农业银行股份有限公司台山市支行
A361: =ROW()-2 -> 359 | B361: 社保卡 | C361: 冲蒌 | D361: 李丽华 | E361: 女 | F361: 44078120020703352652 | G361: 440781200207033526 | H361: 智力 | I361: 二级 | J361: 冲蒌镇光荣路78-86号后座之一 | K361: 6217280734000881267 | L361: 李丽华 | M361: 广东台山农村商业银行股份有限公司
A362: =ROW()-2 -> 360 | B362: 社保卡 | C362: 冲蒌 | D362: 钟玉如 | E362: 女 | F362: 44072219580117354411 | G362: 440722195801173544 | H362: 视力 | I362: 一级 | J362: 冲蒌镇官窦朝阳村九巷2号 | K362: 6228230616765492265 | L362: 钟玉如 | M362: 中国农业银行股份有限公司台山市支行
A363: =ROW()-2 -> 361 | B363: 存折 | C363: 冲蒌 | D363: 伍小珍 | E363: 女 | F363: 44072219681203356862 | G363: 440722196812033568 | H363: 精神 | I363: 二级 | J363: 台山市冲蒌镇官窦村40巷4号南 | K363: 80010000807444867 | L363: 伍小珍 | M363: 广东台山农村商业银行股份有限公司
A364: =ROW()-2 -> 362 | B364: 社保卡 | C364: 冲蒌 | D364: 黄超奇 | E364: 女 | F364: 44072219550508351X42 | G364: 44072219550508351X | H364: 肢体 | I364: 二级 | J364: 台山市冲蒌镇伞塘南昌村新村6巷4号 | K364: 6228230616765516766 | L364: 黄超奇 | M364: 中国农业银行股份有限公司台山市支行
A365: =ROW()-2 -> 363 | B365: 社保卡 | C365: 冲蒌 | D365: 袁雁云 | E365: 女 | F365: 44078119890521352452 | G365: 440781198905213524 | H365: 智力 | I365: 二级 | J365: 冲蒌镇朝中福安村9巷16号 | K365: 6228230616764661662 | L365: 袁雁云 | M365: 中国农业银行股份有限公司台山市支行
A366: =ROW()-2 -> 364 | B366: 社保卡 | C366: 冲蒌 | D366: 梁超宁 | E366: 男 | F366: 44072219500904353522 | G366: 440722195009043535 | H366: 听力 | I366: 二级 | J366: 冲蒌镇新围大堆村八巷6号西 | K366: 6228230617600725661 | L366: 梁超宁 | M366: 中国农业银行股份有限公司台山市支行
A367: =ROW()-2 -> 365 | B367: 社保卡 | C367: 冲蒌 | D367: 邓永怡 | E367: 男 | F367: 44078119920324351241 | G367: 440781199203243512 | H367: 肢体 | I367: 一级 | J367: 冲蒌镇竹湖新屋村三巷4号 | K367: 6228230617156271466 | L367: 邓永怡 | M367: 中国农业银行股份有限公司台山市支行
A368: =ROW()-2 -> 366 | B368: 社保卡 | C368: 冲蒌 | D368: 蔡雁媚 | E368: 女 | F368: 44072219550316352442 | G368: 440722195503163524 | H368: 肢体 | I368: 二级 | J368: 冲蒌镇达材永兴村上村2巷2号 | K368: 6228230617603392261 | L368: 蔡雁媚 | M368: 中国农业银行股份有限公司台山市支行
A369: =ROW()-2 -> 367 | B369: 社保卡 | C369: 冲蒌 | D369: 李艳霞 | E369: 女 | F369: 44072219570717354862 | G369: 440722195707173548 | H369: 精神 | I369: 二级 | J369: 冲蒌镇伞塘银行村9巷5号 | K369: 6228230616764380263 | L369: 李艳霞 | M369: 中国农业银行股份有限公司台山市支行
A370: =ROW()-2 -> 368 | B370: 社保卡 | C370: 冲蒌 | D370: 程植光 | E370: 男 | F370: 44072219570522353X42 | G370: 44072219570522353X | H370: 肢体 | I370: 二级 | J370: 冲蒌镇前锋中围村2巷3号 | K370: 6228230616692358761 | L370: 程植光 | M370: 中国农业银行股份有限公司台山市支行
A371: =ROW()-2 -> 369 | B371: 社保卡 | C371: 冲蒌 | D371: 邓玉凤 | E371: 女 | F371: 45212619701014092862 | G371: =LEFT(F371,18) -> 452126197010140928 | H371: 精神 | I371: 二级 | J371: 冲蒌镇稔坪宦田村6巷5号西 | K371: 6228230617064091469 | L371: 邓玉凤 | M371: 中国农业银行股份有限公司台山市支行
A372: =ROW()-2 -> 370 | B372: 社保卡 | C372: 冲蒌 | D372: 杨青好 | E372: 女 | F372: 44072219490919356942 | G372: =LEFT(F372,18) -> 440722194909193569 | H372: 肢体 | I372: 二级 | J372: 冲蒌镇新围咸塘村11巷5号西 | K372: 6228230616694912367 | L372: 杨青好 | M372: 中国农业银行股份有限公司台山市支行
A373: =ROW()-2 -> 371 | B373: 社保卡 | C373: 冲蒌 | D373: 杨爱群 | E373: 女 | F373: 44072219490921352322 | G373: =LEFT(F373,18) -> 440722194909213523 | H373: 听力 | I373: 二级 | J373: 冲蒌镇侨东路一巷9号402房 | K373: 6228230616764425167 | L373: 杨爱群 | M373: 中国农业银行股份有限公司台山市支行
A374: =ROW()-2 -> 372 | B374: 社保卡 | C374: 冲蒌 | D374: 李润华 | E374: 男 | F374: 44078119900803351X63 | G374: =LEFT(F374,18) -> 44078119900803351X | H374: 精神 | I374: 三级 | J374: 冲蒌镇西坑南安村3巷6号东 | K374: 6228230616695769667 | L374: 李润华 | M374: 中国农业银行股份有限公司台山市支行
A375: =ROW()-2 -> 373 | B375: 社保卡 | C375: 冲蒌 | D375: 周丽媚 | E375: 女 | F375: 44072219520606354342 | G375: 440722195206063543 | H375: 肢体 | I375: 二级 | J375: 广东省台山市冲蒌镇新围胜塘村5巷6号 | K375: 6228230616694913563 | L375: 周丽媚 | M375: 中国农业银行股份有限公司台山市支行
A376: =ROW()-2 -> 374 | B376: 社保卡 | C376: 冲蒌 | D376: 陈玉莲 | E376: 女 | F376: 44072219461010354942 | G376: 440722194610103549 | H376: 肢体 | I376: 二级 | J376: 广东省台山市冲蒌镇西坑东头村10巷9号西 | K376: 6228230616692390962 | L376: 陈玉莲 | M376: 中国农业银行股份有限公司台山市支行
A377: =ROW()-2 -> 375 | B377: 社保卡 | C377: 冲蒌 | D377: 李春桂 | E377: 女 | F377: 44072219500715358941 | G377: 440722195007153589 | H377: 肢体 | I377: 一级 | J377: 广东省台山市冲蒌镇新围莲洲村5巷3号西 | K377: 6228230617116913066 | L377: 李春桂 | M377: 中国农业银行股份有限公司台山市支行
A378: =ROW()-2 -> 376 | B378: 社保卡 | C378: 冲蒌 | D378: 林树森 | E378: 男 | F378: 44072219471203351042 | G378: 440722194712033510 | H378: 肢体 | I378: 二级 | J378: 广东省台山市冲蒌镇新围胜塘村6巷7号 | K378: 6228230616729980967 | L378: 林树森 | M378: 中国农业银行股份有限公司台山市支行
A379: =ROW()-2 -> 377 | B379: 社保卡 | C379: 冲蒌 | D379: 李适意 | E379: 女 | F379: 44072219530826352X42 | G379: 44072219530826352X | H379: 肢体 | I379: 二级 | J379: 广东省台山市冲蒌镇新围胜塘村6巷5号 | K379: 6228230616695582565 | L379: 李适意 | M379: 中国农业银行股份有限公司台山市支行
A380: =ROW()-2 -> 378 | B380: 社保卡 | C380: 冲蒌 | D380: 伍凤霞 | E380: 女 | F380: 44072219441118352341 | G380: 440722194411183523 | H380: 肢体 | I380: 一级 | J380: 广东省台山市冲蒌镇达材湖安村10巷1号西 | K380: 6228230617116889761 | L380: 伍凤霞 | M380: 中国农业银行股份有限公司台山市支行
A381: =ROW()-2 -> 379 | B381: 社保卡 | C381: 冲蒌 | D381: 赵雪媚 | E381: 女 | F381: 44072219550714356342 | G381: 440722195507143563 | H381: 肢体 | I381: 二级 | J381: 广东省台山市冲蒌镇伞塘锦元村5巷8号 | K381: 6228230616729960662 | L381: 赵雪媚 | M381: 中国农业银行股份有限公司台山市支行
A382: =ROW()-2 -> 380 | B382: 社保卡 | C382: 冲蒌 | D382: 伍俊 | E382: 男 | F382: 44078119920914351254 | G382: 440781199209143512 | H382: 智力 | I382: 四级 | J382: 广东省台山市冲蒌镇竹洛村20巷1号东 | K382: 6228230617609416361 | L382: 伍俊 | M382: 中国农业银行股份有限公司台山市支行
A383: =ROW()-2 -> 381 | B383: 社保卡 | C383: 冲蒌 | D383: 麦悦威 | E383: 男 | F383: 44078119901011351971 | G383: 440781199010113519 | H383: 多重 | I383: 听力一级+言语一级 | J383: 广东省台山市冲蒌镇自由路9号 | K383: 6217280734001023257 | L383: 麦悦威 | M383: 广东台山农村商业银行股份有限公司
A384: =ROW()-2 -> 382 | B384: 社保卡 | C384: 冲蒌 | D384: 伍光业 | E384: 男 | F384: 44072219591030351241 | G384: 440722195910303512 | H384: 肢体 | I384: 一级 | J384: 广东省台山市冲蒌镇竹洛村24巷3号 | K384: 6228230616764437568 | L384: 伍光业 | M384: 中国农业银行股份有限公司台山市支行
A385: =ROW()-2 -> 383 | B385: 社保卡 | C385: 冲蒌 | D385: 伍德荣 | E385: 男 | F385: 44072219401111357741 | G385: 440722194011113577 | H385: 肢体 | I385: 一级 | J385: 广东省台山市冲蒌镇八家齐洛村19巷2号南 | K385: 6228230616733271668 | L385: 伍德荣 | M385: 中国农业银行股份有限公司台山市支行
A386: =ROW()-2 -> 384 | B386: 社保卡 | C386: 冲蒌 | D386: 许麟生 | E386: 男 | F386: 44072219500413353142 | G386: 440722195004133531 | H386: 肢体 | I386: 二级 | J386: 广东省台山市冲蒌镇前锋天荣村11巷2号 | K386: 6228230616696618566 | L386: 许麟生 | M386: 中国农业银行股份有限公司台山市支行
... A389: =ROW()-2 -> 387 | B389: 社保卡 | C389: 冲蒌 | D389: 陈启强 | E389: 男 | F389: 44072219610108351842 | G389: 440722196101083518 | H389: 肢体 | I389: 二级 | J389: 广东省台山市冲蒌镇八家逢源村十巷1号西 | K389: 6228230616707455966 | L389: 陈启强 | M389: 中国农业银行股份有限公司台山市支行
A390: =ROW()-2 -> 388 | B390: 社保卡 | C390: 冲蒌 | D390: 余自珍 | E390: 女 | F390: 44072219560615354842 | G390: 440722195606153548 | H390: 肢体 | I390: 二级 | J390: 台山市冲蒌镇西坑东头村三巷3号东 | K390: 6228230616764394868 | L390: 余自珍 | M390: 中国农业银行股份有限公司台山市支行 | N390: 新增
A391: =ROW()-2 -> 389 | B391: 社保卡 | C391: 冲蒌 | D391: 廖迎辉 | E391: 男 | F391: 44078119671226351842 | G391: 440781196712263518 | H391: 肢体 | I391: 二级 | J391: 台山市冲蒌镇前锋甫草洋村40巷2号南 | K391: 6228230616758653261 | L391: 廖迎辉 | M391: 中国农业银行股份有限公司台山市支行 | N391: 新增
A392: =ROW()-2 -> 390 | B392: 社保卡 | C392: 冲蒌 | D392: 陈稳玲 | E392: 女 | F392: 44072219680911552X61 | G392: 44072219680911552X | H392: 肢体 | I392: 一级 | J392: 台山市冲蒌镇前锋甫草洋村24巷5号 | K392: 6228230617120664762 | L392: 陈稳玲 | M392: 中国农业银行股份有限公司台山市支行 | N392: 新增

Sheet 2023年3月残疾人生活津贴
A1: 台山市残疾人生活津贴（低保残疾人）发放名册（2023年3月220元）
A3: 序号 | B3: 请核对非人账号发放 | C3: 镇别 | D3: 姓名 | E3: 性别 | F3: 残疾人证号码 | G3: 身份证号码 | H3: 残疾类别 | I3: 残疾等级 | J3: 详细居住地址 | K3: 银行账号 | L3: 户名 | M3: 发放银行 | N3: 备注 | P3: 村（居） | Q3: 监护人姓名 | R3: 关系
A4: =ROW()-3 -> 1 | B4: 社保卡 | C4: 冲蒌 | D4: 伍杏梨 | E4: 女 | F4: 44072219711031352762 | G4: =LEFT(F4,18) -> 440722197110313527 | H4: 精神 | I4: 二级 | J4: 台山市冲蒌镇西海连山村8巷1号 | K4: 6228230616707641060 | L4: 伍杏梨 | M4: 中国农业银行股份有限公司台山市支行 | O4: =IF(D4=L4,"相同","不相同") -> 相同
A5: =ROW()-3 -> 2 | B5: 社保卡 | C5: 冲蒌 | D5: 赵艳琼 | E5: 女 | F5: 44078119940824354052 | G5: =LEFT(F5,18) -> 440781199408243540 | H5: 智力 | I5: 二级 | J5: 台山市冲蒌镇稔坪龙湾村7巷2号北 | K5: 6228230617153831668 | L5: 赵艳琼 | M5: 中国农业银行股份有限公司台山市支行 | O5: =IF(D5=L5,"相同","不相同") -> 相同
A6: =ROW()-3 -> 3 | B6: 社保卡 | C6: 冲蒌 | D6: 陈慕贞 | E6: 女 | F6: 44078119731112352762 | G6: =LEFT(F6,18) -> 440781197311123527 | H6: 精神 | I6: 二级 | J6: 台山市冲蒌镇竹洛村9巷8号 | K6: 6228230617120721760 | L6: 陈慕贞 | M6: 中国农业银行股份有限公司台山市支行 | O6: =IF(D6=L6,"相同","不相同") -> 相同
A7: =ROW()-3 -> 4 | B7: 社保卡 | C7: 冲蒌 | D7: 蔡福钦 | E7: 男 | F7: 44072219510511351342 | G7: =LEFT(F7,18) -> 440722195105113513 | H7: 肢体 | I7: 二级 | J7: 台山市冲蒌镇三和福田村6巷3号西 | K7: 6228230616765511866 | L7: 蔡福钦 | M7: 中国农业银行股份有限公司台山市支行 | O7: =IF(D7=L7,"相同","不相同") -> 相同
A8: =ROW()-3 -> 5 | B8: 社保卡 | C8: 冲蒌 | D8: 麦树威 | E8: 男 | F8: 44072219700208355X63 | G8: =LEFT(F8,18) -> 44072219700208355X | H8: 精神 | I8: 三级 | J8: 台山市冲蒌镇竹湖东安村二巷4号 | K8: 6228230616692426261 | L8: 麦树威 | M8: 中国农业银行股份有限公司台山市支行 | O8: =IF(D8=L8,"相同","不相同") -> 相同
A9: =ROW()-3 -> 6 | B9: 社保卡 | C9: 冲蒌 | D9: 叶玉秀 | E9: 女 | F9: 44072219530921352431 | G9: =LEFT(F9,18) -> 440722195309213524 | H9: 语言 | I9: 一级 | J9: 台山市冲蒌镇白岗永盛村11巷5号 | K9: 6228230616707563561 | L9: 叶玉秀 | M9: 中国农业银行股份有限公司台山市支行 | O9: =IF(D9=L9,"相同","不相同") -> 相同
A10: =ROW()-3 -> 7 | B10: 存折 | C10: 冲蒌 | D10: 伍伟权 | E10: 男 | F10: 44078119980822351441 | G10: =LEFT(F10,18) -> 440781199808223514 | H10: 肢体 | I10: 一级 | J10: 冲蒌镇竹洛村18巷2号 | K10: 80010002053981914 | L10: 伍伟权 | M10: 广东台山农村商业银行股份有限公司 | O10: =IF(D10=L10,"相同","不相同") -> 相同
A11: =ROW()-3 -> 8 | B11: 社保卡 | C11: 冲蒌 | D11: 伍月秀 | E11: 女 | F11: 44072219600706352942 | G11: =LEFT(F11,18) -> 440722196007063529 | H11: 肢体 | I11: 二级 | J11: 冲蒌镇官窦朝阳村20巷17号北 | K11: 6228230616692350461 | L11: 伍月秀 | M11: 中国农业银行股份有限公司台山市支行 | O11: =IF(D11=L11,"相同","不相同") -> 相同
A12: =ROW()-3 -> 9 | B12: 社保卡 | C12: 冲蒌 | D12: 伍永霞 | E12: 女 | F12: 44078119741014354X52 | G12: =LEFT(F12,18) -> 44078119741014354X | H12: 智力 | I12: 二级 | J12: 冲蒌镇官窦村三巷15号 | K12: 6228230617153820869 | L12: 伍永霞 | M12: 中国农业银行股份有限公司台山市支行 | O12: =IF(D12=L12,"相同","不相同") -> 相同
A13: =ROW()-3 -> 10 | B13: 社保卡 | C13: 冲蒌 | D13: 梁国锐 | E13: 男 | F13: 44072219550313353643 | G13: =LEFT(F13,18) -> 440722195503133536 | H13: 肢体 | I13: 三级 | J13: 冲蒌镇冲洋龙池旧村5巷6号 | K13: 6228230616764668964 | L13: 梁国锐 | M13: 中国农业银行股份有限公司台山市支行 | O13: =IF(D13=L13,"相同","不相同") -> 相同
A14: =ROW()-3 -> 11 | B14: 社保卡 | C14: 冲蒌 | D14: 伍慧娜 | E14: 女 | F14: 44078119770104352253 | G14: =LEFT(F14,18) -> 440781197701043522 | H14: 多重 | I14: 精神二级+智力三级 | J14: 冲蒌镇新屋南和坑村十巷4号北 | K14: 6228230617156269064 | L14: 伍慧娜 | M14: 中国农业银行股份有限公司台山市支行 | O14: =IF(D14=L14,"相同","不相同") -> 相同
A15: =ROW()-3 -> 12 | B15: 社保卡 | C15: 冲蒌 | D15: 陈奕佐 | E15: 男 | F15: 44072219750225351943 | G15: =LEFT(F15,18) -> 440722197502253519 | H15: 肢体 | I15: 三级 | J15: 冲蒌镇朝中朝宁村10巷1号 | K15: 6228230616692326164 | L15: 陈奕佐 | M15: 中国农业银行股份有限公司台山市支行 | O15: =IF(D15=L15,"相同","不相同") -> 相同
... A53: =ROW()-3 -> 50 | B53: 社保卡 | C53: 冲蒌 | D53: 蔡碧园 | E53: 女 | F53: 44078119770521352552 | G53: =LEFT(F53,18) -> 440781197705213525 | H53: 智力 | I53: 二级 | J53: 冲蒌镇白岗永盛村11巷5号 | K53: 6228230616707534463 | L53: 蔡碧园 | M53: 中国农业银行股份有限公司台山市支行 | O53: =IF(D53=L53,"相同","不相同") -> 相同
A54: =ROW()-3 -> 51 | B54: 社保卡 | C54: 冲蒌 | D54: 陈周源 | E54: =VLOOKUP(D54,[1]残疾人人口基础数据!$A:$C,3,0) -> 男 | F54: 44072219570902351943 | G54: =LEFT(F54,18) -> 440722195709023519 | H54: 肢体 | I54: 三级 | J54: 冲蒌镇朝中朝宁村5巷37号 | K54: 6228230616730380462 | L54: 陈周源 | M54: 中国农业银行股份有限公司台山市支行 | O54: =IF(D54=L54,"相同","不相同") -> 相同
A55: =ROW()-3 -> 52 | B55: 社保卡 | C55: 冲蒌 | D55: 李伟新 | E55: =VLOOKUP(D55,[1]残疾人人口基础数据!$A:$C,3,0) -> 男 | F55: 44078119820113351844 | G55: =LEFT(F55,18) -> 440781198201133518 | H55: 肢体 | I55: 四级 | J55: 冲蒌镇达材西盛村5巷3号南 | K55: 6228230616707583866 | L55: 李伟新 | M55: 中国农业银行股份有限公司台山市支行 | O55: =IF(D55=L55,"相同","不相同") -> 相同
A56: =ROW()-3 -> 53 | B56: 社保卡 | C56: 冲蒌 | D56: 陈秀仪 | E56: =VLOOKUP(D56,[1]残疾人人口基础数据!$A:$C,3,0) -> 女 | F56: 44072219731214354652 | G56: =LEFT(F56,18) -> 440722197312143546 | H56: 智力 | I56: 二级 | J56: 冲蒌镇官窦村7巷9号 | K56: 6228230617066837067 | L56: 陈秀仪 | M56: 中国农业银行股份有限公司台山市支行 | O56: =IF(D56=L56,"相同","不相同") -> 相同
A57: =ROW()-3 -> 54 | B57: 社保卡 | C57: 冲蒌 | D57: 李亚考 | E57: 女 | F57: 44072219690401476X63 | G57: =LEFT(F57,18) -> 44072219690401476X | H57: 精神 | I57: 二级 | J57: 冲蒌镇竹湖村九巷1号中 | K57: 6228230616695594362 | L57: 李亚考 | M57: 中国农业银行股份有限公司台山市支行 | O57: =IF(D57=L57,"相同","不相同") -> 相同
A58: =ROW()-3 -> 55 | B58: 社保卡 | C58: 冲蒌 | D58: 邓启英 | E58: 男 | F58: 44072219670114351042 | G58: =LEFT(F58,18) -> 440722196701143510 | H58: 肢体 | I58: 二级 | J58: 冲蒌镇白岗村15巷1号 | K58: 6228230616707542961 | L58: 邓启英 | M58: 中国农业银行股份有限公司台山市支行 | O58: =IF(D58=L58,"相同","不相同") -> 相同
A59: =ROW()-3 -> 56 | B59: 社保卡 | C59: 冲蒌 | D59: 李活龙 | E59: 男 | F59: 44078120060303351X53 | G59: =LEFT(F59,18) -> 44078120060303351X | H59: 智力 | I59: 三级 | J59: 冲蒌镇达材碧安村5巷4号西 | K59: 6228230617391179961 | L59: 李活龙 | M59: 中国农业银行股份有限公司台山市支行 | O59: =IF(D59=L59,"相同","不相同") -> 相同
A60: =ROW()-3 -> 57 | B60: 社保卡 | C60: 冲蒌 | D60: 伍啟辉 | E60: 男 | F60: 44078119790804351144 | G60: =LEFT(F60,18) -> 440781197908043511 | H60: 肢体 | I60: 四级 | J60: 冲蒌镇官窦村九巷3号南 | K60: 6228230617153818962 | L60: 伍啟辉 | M60: 中国农业银行股份有限公司台山市支行 | O60: =IF(D60=L60,"相同","不相同") -> 相同
A61: =ROW()-3 -> 58 | B61: 社保卡 | C61: 冲蒌 | D61: 伍进文 | E61: 男 | F61: 44078119800128351162 | G61: =LEFT(F61,18) -> 440781198001283511 | H61: 精神 | I61: 二级 | J61: 冲蒌镇竹洛村14巷15号西 | K61: 6228230617062561067 | L61: 伍进文 | M61: 中国农业银行股份有限公司台山市支行 | O61: =IF(D61=L61,"相同","不相同") -> 相同
A62: =ROW()-3 -> 59 | B62: 社保卡 | C62: 冲蒌 | D62: 吴晓斌 | E62: 男 | F62: 44078120020223353753 | G62: =LEFT(F62,18) -> 440781200202233537 | H62: 智力 | I62: 三级 | J62: 冲蒌镇达材东兴村3巷6号 | K62: 6228230617391184169 | L62: 吴晓斌 | M62: 中国农业银行股份有限公司台山市支行 | O62: =IF(D62=L62,"相同","不相同") -> 相同
A63: =ROW()-3 -> 60 | B63: 社保卡 | C63: 冲蒌 | D63: 伍小娟 | E63: 女 | F63: 44072219621203352142 | G63: =LEFT(F63,18) -> 440722196212033521 | H63: 肢体 | I63: 二级 | J63: 冲蒌镇新屋窑岗村六巷4号 | K63: 6228230617064110764 | L63: 伍小娟 | M63: 中国农业银行股份有限公司台山市支行 | O63: =IF(D63=L63,"相同","不相同") -> 相同
A64: =ROW()-3 -> 61 | B64: 社保卡 | C64: 冲蒌 | D64: 刘惠琼 | E64: 女 | F64: 44072219750207352612 | G64: =LEFT(F64,18) -> 440722197502073526 | H64: 听力 | I64: 二级 | J64: 冲蒌镇八家围安村四巷4号 | K64: 6228230617069597163 | L64: 刘惠琼 | M64: 中国农业银行股份有限公司台山市支行 | O64: =IF(D64=L64,"相同","不相同") -> 相同
A65: =ROW()-3 -> 62 | B65: 社保卡 | C65: 冲蒌 | D65: 黎金芬 | E65: 女 | F65: 51222119690408584752 | G65: =LEFT(F65,18) -> 512221196904085847 | H65: 智力 | I65: 二级 | J65: 冲蒌镇新屋新塘村4号东 | K65: 6228230616758736264 | L65: 黎金芬 | M65: 中国农业银行股份有限公司台山市支行 | O65: =IF(D65=L65,"相同","不相同") -> 相同
A66: =ROW()-3 -> 63 | B66: 社保卡 | C66: 冲蒌 | D66: 梁振财 | E66: 男 | F66: 44072219550311351942 | G66: =LEFT(F66,18) -> 440722195503113519 | H66: 肢体 | I66: 二级 | J66: 冲蒌镇新围咸塘村9巷6号东 | K66: 6228230617611527361 | L66: 梁振财 | M66: 中国农业银行股份有限公司台山市支行 | O66: =IF(D66=L66,"相同","不相同") -> 相同
A67: =ROW()-3 -> 64 | B67: 社保卡 | C67: 冲蒌 | D67: 伍锦凤 | E67: 女 | F67: 44078119651218354852 | G67: =LEFT(F67,18) -> 440781196512183548 | H67: 智力 | I67: 二级 | J67: 冲蒌镇新围村13巷9号东 | K67: 6217280734000545490 | L67: 伍锦凤 | M67: 广东台山农村商业银行股份有限公司 | O67: =IF(D67=L67,"相同","不相同") -> 相同
A68: =ROW()-3 -> 65 | B68: 社保卡 | C68: 冲蒌 | D68: 伍灼文 | E68: 男 | F68: 44072219750922351544 | G68: =LEFT(F68,18) -> 440722197509223515 | H68: 肢体 | I68: 四级 | J68: 冲蒌镇官窦村16巷10号北 | K68: 6228230618003975572 | L68: 伍灼文 | M68: 中国农业银行股份有限公司台山市支行 | O68: =IF(D68=L68,"相同","不相同") -> 相同
... A132: =ROW()-3 -> 129 | B132: 社保卡 | C132: 冲蒌 | D132: 倪美娟 | E132: 男 | F132: 44078119890829356651 | G132: =LEFT(F132,18) -> 440781198908293566 | H132: 智力 | I132: 一级 | J132: 冲蒌镇新屋窑岗村七巷7号 | K132: 6228230617156267969 | L132: 倪美娟 | M132: 中国农业银行股份有限公司台山市支行 | O132: =IF(D132=L132,"相同","不相同") -> 相同
A133: =ROW()-3 -> 130 | B133: 社保卡 | C133: 冲蒌 | D133: 伍光业 | E133: 男 | F133: 44072219591030351241 | G133: =LEFT(F133,18) -> 440722195910303512 | H133: 肢体 | I133: 一级 | J133: 广东省台山市冲蒌镇竹洛村24巷3号 | K133: 6228230616764437568 | L133: 伍光业 | M133: 中国农业银行股份有限公司台山市支行
A134: =ROW()-3 -> 131 | B134: 社保卡 | C134: 冲蒌 | D134: 伍德荣 | E134: 男 | F134: 44072219401111357741 | G134: =LEFT(F134,18) -> 440722194011113577 | H134: 肢体 | I134: 一级 | J134: 广东省台山市冲蒌镇八家齐洛村19巷2号南 | K134: 6228230616733271668 | L134: 伍德荣 | M134: 中国农业银行股份有限公司台山市支行
A135: =ROW()-3 -> 132 | B135: 社保卡 | C135: 冲蒌 | D135: 黄笑媚 | E135: 女 | F135: 44072219501006472043 | G135: 440722195010064720 | H135: 肢体 | I135: 三级 | J135: 广东省台山市冲蒌镇西海连山村6巷3号北 | K135: 6228230618004693174 | L135: 黄笑媚 | M135: 中国农业银行股份有限公司台山市支行 | N135: 新增

Sheet 2023年3月重度护理补贴
A1: 台山市残疾人重度护理补贴发放名册（2023年3月280元）
A2: 序号 | B2: 请核对（非人账号发放和核对账号 | C2: 镇别 | D2: 姓名 | E2: 性别 | F2: 残疾人证号 | G2: 身份证号码 | H2: 残疾类别 | I2: 级别 | J2: 地址 | K2: 银行帐号 | L2: 户名 | M2: 发放银行 | N2: 备注 | O2: 村（居） | P2: 监护人姓名 | Q2: 关系
A3: =ROW()-2 -> 1 | B3: 社保卡 | C3: 冲蒌 | D3: 梁炎洪 | E3: 男 | F3: 44078119880823353111 | G3: 440781198808233531 | H3: 视力 | I3: 一级 | J3: 冲蒌镇新屋南和坑村13巷3号 | K3: 6228230616729992863 | L3: 梁炎洪 | M3: 中国农业银行股份有限公司台山市支行
A4: =ROW()-2 -> 2 | B4: 存折 | C4: 冲蒌 | D4: 梁碧霞 | E4: 女 | F4: 44072219691226352062 | G4: =MID(F4,1,18) -> 440722196912263520 | H4: 精神 | I4: 二级 | J4: 冲蒌镇官窦龙塘村9巷6号北 | K4: 80010001327562404 | L4: 梁碧霞 | M4: 广东台山农村商业银行股份有限公司
A5: =ROW()-2 -> 3 | B5: 社保卡 | C5: 冲蒌 | D5: 麦湛生 | E5: 男 | F5: 44078119860119355271 | G5: =MID(F5,1,18) -> 440781198601193552 | H5: 听力 | I5: 二级 | J5: 冲蒌镇友爱路10号 | K5: 6217212012015000584 | L5: 麦湛生 | M5: 中国工商银行股份有限公司台山支行
A6: =ROW()-2 -> 4 | B6: 存折 | C6: 冲蒌 | D6: 陈雅荷 | E6: 女 | F6: 44078119840705382062 | G6: =LEFT(F6,18) -> 440781198407053820 | H6: 精神 | I6: 二级 | J6: 斗山镇五福那马村6巷19号 | K6: 80010001645714412 | L6: 陈雅荷 | M6: 广东台山农村商业银行股份有限公司
A7: =ROW()-2 -> 5 | B7: 社保卡 | C7: 冲蒌 | D7: 黄彩莲 | E7: 女 | F7: 44072219421025352111 | G7: =LEFT(F7,18) -> 440722194210253521 | H7: 视力 | I7: 一级 | J7: 冲蒌镇八家逢源村四巷1号 | K7: 6228230616707522062 | L7: 黄彩莲 | M7: 中国农业银行股份有限公司台山市支行
A8: =ROW()-2 -> 6 | B8: 社保卡 | C8: 冲蒌 | D8: 刘灿豪 | E8: 男 | F8: 44072219480420351342 | G8: =LEFT(F8,18) -> 440722194804203513 | H8: 肢体 | I8: 二级 | J8: 冲蒌镇达材西就村10巷1号 | K8: 6228230617116888565 | L8: 刘灿豪 | M8: 中国农业银行股份有限公司台山市支行
A9: =ROW()-2 -> 7 | B9: 社保卡 | C9: 冲蒌 | D9: 伍启云 | E9: 男 | F9: 44072219500726353442 | G9: =LEFT(F9,18) -> 440722195007263534 | H9: 肢体 | I9: 二级 | J9: 冲蒌镇竹洛村27巷3号 | K9: 6228230616765578360 | L9: 伍启云 | M9: 中国农业银行股份有限公司台山市支行
A10: =ROW()-2 -> 8 | B10: 社保卡 | C10: 冲蒌 | D10: 伍柏祥 | E10: 男 | F10: 44072219530327353442 | G10: =LEFT(F10,18) -> 440722195303273534 | H10: 肢体 | I10: 二级 | J10: 冲蒌镇新围胜塘村5巷3号西 | K10: 6228230616729981965 | L10: 伍柏祥 | M10: 中国农业银行股份有限公司台山市支行
A11: =ROW()-2 -> 9 | B11: 社保卡 | C11: 冲蒌 | D11: 伍仕安 | E11: 男 | F11: 44072219531010351742 | G11: =LEFT(F11,18) -> 440722195310103517 | H11: 肢体 | I11: 二级 | J11: 冲蒌镇官窦村41巷11号 | K11: 6228230615346938366 | L11: 伍仕安 | M11: 中国农业银行股份有限公司台山市支行
A12: =ROW()-2 -> 10 | B12: 社保卡 | C12: 冲蒌 | D12: 梅兰素 | E12: 女 | F12: 44072219540301354542 | G12: =LEFT(F12,18) -> 440722195403013545 | H12: 肢体 | I12: 二级 | J12: 冲蒌镇西海河洲村6巷2号南 | K12: 6228230616733413062 | L12: 梅兰素 | M12: 中国农业银行股份有限公司台山市支行
A13: =ROW()-2 -> 11 | B13: 社保卡 | C13: 冲蒌 | D13: 陈青平 | E13: 男 | F13: 44072219540723351071 | G13: =LEFT(F13,18) -> 440722195407233510 | H13: 多重 | I13: 听力一级+言语一级 | J13: 冲蒌镇伞塘锦元村6巷1号北 | K13: 6228230616764378267 | L13: 陈青平 | M13: 中国农业银行股份有限公司台山市支行
A14: =ROW()-2 -> 12 | B14: 社保卡 | C14: 冲蒌 | D14: 李银娟 | E14: 女 | F14: 44072219561027432642 | G14: =LEFT(F14,18) -> 440722195610274326 | H14: 肢体 | I14: 二级 | J14: 冲蒌镇八家潮美村八巷3号西 | K14: 6228230617069594061 | L14: 李银娟 | M14: 中国农业银行股份有限公司台山市支行
A15: =ROW()-2 -> 13 | B15: 社保卡 | C15: 冲蒌 | D15: 麦瑞英 | E15: 女 | F15: 44072219571116352942 | G15: =LEFT(F15,18) -> 440722195711163529 | H15: 肢体 | I15: 二级 | J15: 冲蒌镇竹湖村十六巷3号 | K15: 6228230617116920467 | L15: 麦瑞英 | M15: 中国农业银行股份有限公司台山市支行
A16: =ROW()-2 -> 14 | B16: 社保卡 | C16: 冲蒌 | D16: 余瑞波 | E16: 男 | F16: 44072219590125351742 | G16: =LEFT(F16,18) -> 440722195901253517 | H16: 肢体 | I16: 二级 | J16: 冲蒌镇达材永安村7巷3号 | K16: 6228230616707608762 | L16: 余瑞波 | M16: 中国农业银行股份有限公司台山市支行
A17: =ROW()-2 -> 15 | B17: 社保卡 | C17: 冲蒌 | D17: 伍月秀 | E17: 女 | F17: 44072219600706352942 | G17: =LEFT(F17,18) -> 440722196007063529 | H17: 肢体 | I17: 二级 | J17: 冲蒌镇官窦朝阳村二十巷17号北 | K17: 6228230616692350461 | L17: 伍月秀 | M17: 中国农业银行股份有限公司台山市支行
... A258: =ROW()-2 -> 256 | B258: 社保卡 | C258: 冲蒌 | D258: 陈小珠 | E258: 女 | F258: 44072219650806384252 | G258: =LEFT(F258,18) -> 440722196508063842 | H258: 智力 | I258: 二级 | J258: 冲蒌镇白岗鹅腔村新鹅里2巷1号 | K258: 6217280734000487628 | L258: 陈小珠 | M258: 广东台山农村商业银行股份有限公司
A259: =ROW()-2 -> 257 | B259: 社保卡 | C259: 冲蒌 | D259: 蔡秋月 | E259: 女 | F259: 44072219490710356662 | G259: =LEFT(F259,18) -> 440722194907103566 | H259: 精神 | I259: =VLOOKUP(D259,[2]残疾人人口基础数据!$A:$E,5,0) -> 二级 | J259: 冲蒌镇竹洛村8巷9号 | K259: 6228230616764440869 | L259: 蔡秋月 | M259: 中国农业银行股份有限公司台山市支行
A260: =ROW()-2 -> 258 | B260: 社保卡 | C260: 冲蒌 | D260: 伍美婵 | E260: =VLOOKUP(D260,[2]残疾人人口基础数据!$A:$C,3,0) -> 女 | F260: 44072219510902352354 | G260: =LEFT(F260,18) -> 440722195109023523 | H260: 智力 | I260: =VLOOKUP(D260,[2]残疾人人口基础数据!$A:$E,5,0) -> 四级 | J260: 冲蒌镇达材汉塘村7巷1号西 | K260: 6228230616733361964 | L260: 伍美婵 | M260: 中国农业银行股份有限公司台山市支行
A261: =ROW()-2 -> 259 | B261: 社保卡 | C261: 冲蒌 | D261: 刘瑞卿 | E261: =VLOOKUP(D261,[2]残疾人人口基础数据!$A:$C,3,0) -> 女 | F261: 44072219580710352063 | G261: =LEFT(F261,18) -> 440722195807103520 | H261: 精神 | I261: =VLOOKUP(D261,[2]残疾人人口基础数据!$A:$E,5,0) -> 三级 | J261: 冲蒌镇白岗坪岗村9巷2号 | K261: 6228230616707558462 | L261: 刘瑞卿 | M261: 中国农业银行股份有限公司台山市支行
A262: =ROW()-2 -> 260 | B262: 社保卡 | C262: 冲蒌 | D262: 陈元有 | E262: =VLOOKUP(D262,[2]残疾人人口基础数据!$A:$C,3,0) -> 男 | F262: 44072219641126351431 | G262: =LEFT(F262,18) -> 440722196411263514 | H262: 语言 | I262: =VLOOKUP(D262,[2]残疾人人口基础数据!$A:$E,5,0) -> 一级 | J262: 冲蒌镇三和南泮村5巷1号 | K262: 6228230616729947065 | L262: 陈元有 | M262: 中国农业银行股份有限公司台山市支行
A263: =ROW()-2 -> 261 | B263: 社保卡 | C263: 冲蒌 | D263: 邓珍华 | E263: 男 | F263: 44078119781031353663 | G263: =LEFT(F263,18) -> 440781197810313536 | H263: 精神 | I263: 三级 | J263: 冲蒌镇新屋安仁村九巷7号东 | K263: 6228230618001880576 | L263: 邓珍华 | M263: 中国农业银行股份有限公司台山市支行
A264: =ROW()-2 -> 262 | B264: 社保卡 | C264: 冲蒌 | D264: 伍健安 | E264: 男 | F264: 44072219630104353762 | G264: =LEFT(F264,18) -> 440722196301043537 | H264: 精神 | I264: 二级 | J264: 冲蒌镇新围胜围村10巷1号 | K264: 6217280734000289883 | L264: 伍健安 | M264: 广东台山农村商业银行股份有限公司
A265: =ROW()-2 -> 263 | B265: 社保卡 | C265: 冲蒌 | D265: 袁伟强 | E265: 男 | F265: 44078119971028355164 | G265: =LEFT(F265,18) -> 440781199710283551 | H265: 精神 | I265: 四级 | J265: 冲蒌镇朝中福安村2巷6号东 | K265: 6228230617153839760 | L265: 袁伟强 | M265: 中国农业银行股份有限公司台山市支行
A266: =ROW()-2 -> 264 | B266: 社保卡 | C266: 冲蒌 | D266: 吴宇铖 | E266: 男 | F266: 44078120180421351171 | G266: =LEFT(F266,18) -> 440781201804213511 | H266: 多重 | I266: 智力一级+肢体二级 | J266: 冲蒌镇达材永兴村5巷5号 | K266: 6217280734000568906 | L266: 吴宇铖 | M266: 广东台山农村商业银行股份有限公司
A267: =ROW()-2 -> 265 | B267: 社保卡 | C267: 冲蒌 | D267: 伍春凤 | E267: 女 | F267: 44072219270117352722 | G267: =LEFT(F267,18) -> 440722192701173527 | H267: 听力 | I267: 二级 | J267: 冲蒌镇白岗村新村路西2巷2号 | K267: 6228230616733314963 | L267: 伍春凤 | M267: 中国农业银行股份有限公司台山市支行
A268: =ROW()-2 -> 266 | B268: 社保卡 | C268: 冲蒌 | D268: 刘子峰 | E268: 男 | F268: 44078120130528351573 | G268: =LEFT(F268,18) -> 440781201305283515 | H268: 多重 | I268: 智力三级+精神三级 | J268: 冲蒌镇达材汉塘村6巷11号西 | K268: 6217280734000583426 | L268: 刘子峰 | M268: 广东台山农村商业银行股份有限公司
A269: =ROW()-2 -> 267 | B269: 社保卡 | C269: 冲蒌 | D269: 伍惠仪 | E269: 女 | F269: 44078119950307384253 | G269: =LEFT(F269,18) -> 440781199503073842 | H269: 智力 | I269: 三级 | J269: 斗山镇福场清泉村 | K269: 6228230617566504167 | L269: 伍惠仪 | M269: 中国农业银行股份有限公司台山市支行
A270: =ROW()-2 -> 268 | B270: 社保卡 | C270: 冲蒌 | D270: 伍炳湛 | E270: 男 | F270: 44072219590802351122 | G270: =LEFT(F270,18) -> 440722195908023511 | H270: 听力 | I270: 二级 | J270: 广东省台山市冲蒌镇光荣路21号 | K270: 6214621234000617931 | L270: 伍炳湛 | M270: 广发银行股份有限公司台山分行
A271: =ROW()-2 -> 269 | B271: 社保卡 | C271: 冲蒌 | D271: 曹杏园 | E271: 女 | F271: 45252319630206144561 | G271: =LEFT(F271,18) -> 452523196302061445 | H271: 精神 | I271: 一级 | J271: 广东省台山市冲蒌镇稔坪高安村11巷4号 | K271: 6217567000022220254 | L271: 曹杏园 | M271: 中国银行股份有限公司江门台山支行
A272: =ROW()-2 -> 270 | B272: 社保卡 | C272: 冲蒌 | D272: 李伟明 | E272: 男 | F272: 44072219630214351363 | G272: =LEFT(F272,18) -> 440722196302143513 | H272: 精神 | I272: 三级 | J272: 广东省台山市冲蒌镇达材东成村2巷2号 | K272: 6228230616707583668 | L272: 李伟明 | M272: 中国农业银行股份有限公司台山市支行
A273: =ROW()-2 -> 271 | B273: 社保卡 | C273: 冲蒌 | D273: 刘礼群 | E273: 男 | F273: 44072219630625353342 | G273: =LEFT(F273,18) -> 440722196306253533 | H273: 肢体 | I273: 二级 | J273: 广东省台山市冲蒌镇伞塘平月村4巷2号 | K273: 6217280734000493741 | L273: 刘礼群 | M273: 广东台山农村商业银行股份有限公司
A274: =ROW()-2 -> 272 | B274: 社保卡 | C274: 冲蒌 | D274: 陈婉金 | E274: 女 | F274: 44072219540606354862 | G274: =LEFT(F274,18) -> 440722195406063548 | H274: 精神 | I274: 二级 | J274: 广东省台山市冲蒌镇冲洋龙池新村9巷7号 | K274: 6228230617116880760 | L274: 陈婉金 | M274: 中国农业银行股份有限公司台山市支行
... A357: =ROW()-2 -> 355 | B357: 社保卡 | C357: 冲蒌 | D357: 伍彦宇 | E357: 男 | F357: 440781201505313512 | G357: =LEFT(F357,18) -> 440781201505313512 | H357: 精神 | I357: 一级 | J357: 冲蒌镇官窦村六巷11号 | K357: 6217280734000893643 | L357: 伍彦宇 | M357: 广东台山农村商业银行股份有限公司
A358: =ROW()-2 -> 356 | B358: 社保卡 | C358: 冲蒌 | D358: 伍远照 | E358: 男 | F358: 44072219711229351553 | G358: 440722197112293515 | H358: 智力 | I358: 三级 | J358: 冲蒌镇竹洛村12巷12号东 | K358: 6228230617064089067 | L358: 伍远照 | M358: 中国农业银行股份有限公司台山市支行
A359: =ROW()-2 -> 357 | B359: 社保卡 | C359: 冲蒌 | D359: 陈礼尧 | E359: 男 | F359: 44072219530630351642 | G359: 440722195306303516 | H359: 肢体 | I359: 二级 | J359: 冲蒌镇竹洛坭涌村6巷6号东 | K359: 6228230617064083862 | L359: 陈礼尧 | M359: 中国农业银行股份有限公司台山市支行
A360: =ROW()-2 -> 358 | B360: 社保卡 | C360: 冲蒌 | D360: 麦建和 | E360: 男 | F360: 44072219670226351463 | G360: 440722196702263514 | H360: 精神 | I360: 三级 | J360: 冲蒌镇竹湖江北村三巷9号 | K360: 6228230616758694760 | L360: 麦建和 | M360: 中国农业银行股份有限公司台山市支行
A361: =ROW()-2 -> 359 | B361: 社保卡 | C361: 冲蒌 | D361: 李丽华 | E361: 女 | F361: 44078120020703352652 | G361: 440781200207033526 | H361: 智力 | I361: 二级 | J361: 冲蒌镇光荣路78-86号后座之一 | K361: 6217280734000881267 | L361: 李丽华 | M361: 广东台山农村商业银行股份有限公司
A362: =ROW()-2 -> 360 | B362: 社保卡 | C362: 冲蒌 | D362: 钟玉如 | E362: 女 | F362: 44072219580117354411 | G362: 440722195801173544 | H362: 视力 | I362: 一级 | J362: 冲蒌镇官窦朝阳村九巷2号 | K362: 6228230616765492265 | L362: 钟玉如 | M362: 中国农业银行股份有限公司台山市支行
A363: =ROW()-2 -> 361 | B363: 存折 | C363: 冲蒌 | D363: 伍小珍 | E363: 女 | F363: 44072219681203356862 | G363: 440722196812033568 | H363: 精神 | I363: 二级 | J363: 台山市冲蒌镇官窦村40巷4号南 | K363: 80010000807444867 | L363: 伍小珍 | M363: 广东台山农村商业银行股份有限公司
A364: =ROW()-2 -> 362 | B364: 社保卡 | C364: 冲蒌 | D364: 黄超奇 | E364: 女 | F364: 44072219550508351X42 | G364: 44072219550508351X | H364: 肢体 | I364: 二级 | J364: 台山市冲蒌镇伞塘南昌村新村6巷4号 | K364: 6228230616765516766 | L364: 黄超奇 | M364: 中国农业银行股份有限公司台山市支行
A365: =ROW()-2 -> 363 | B365: 社保卡 | C365: 冲蒌 | D365: 袁雁云 | E365: 女 | F365: 44078119890521352452 | G365: 440781198905213524 | H365: 智力 | I365: 二级 | J365: 冲蒌镇朝中福安村9巷16号 | K365: 6228230616764661662 | L365: 袁雁云 | M365: 中国农业银行股份有限公司台山市支行
A366: =ROW()-2 -> 364 | B366: 社保卡 | C366: 冲蒌 | D366: 梁超宁 | E366: 男 | F366: 44072219500904353522 | G366: 440722195009043535 | H366: 听力 | I366: 二级 | J366: 冲蒌镇新围大堆村八巷6号西 | K366: 6228230617600725661 | L366: 梁超宁 | M366: 中国农业银行股份有限公司台山市支行
A367: =ROW()-2 -> 365 | B367: 社保卡 | C367: 冲蒌 | D367: 邓永怡 | E367: 男 | F367: 44078119920324351241 | G367: 440781199203243512 | H367: 肢体 | I367: 一级 | J367: 冲蒌镇竹湖新屋村三巷4号 | K367: 6228230617156271466 | L367: 邓永怡 | M367: 中国农业银行股份有限公司台山市支行
A368: =ROW()-2 -> 366 | B368: 社保卡 | C368: 冲蒌 | D368: 蔡雁媚 | E368: 女 | F368: 44072219550316352442 | G368: 440722195503163524 | H368: 肢体 | I368: 二级 | J368: 冲蒌镇达材永兴村上村2巷2号 | K368: 6228230617603392261 | L368: 蔡雁媚 | M368: 中国农业银行股份有限公司台山市支行
A369: =ROW()-2 -> 367 | B369: 社保卡 | C369: 冲蒌 | D369: 李艳霞 | E369: 女 | F369: 44072219570717354862 | G369: 440722195707173548 | H369: 精神 | I369: 二级 | J369: 冲蒌镇伞塘银行村9巷5号 | K369: 6228230616764380263 | L369: 李艳霞 | M369: 中国农业银行股份有限公司台山市支行
A370: =ROW()-2 -> 368 | B370: 社保卡 | C370: 冲蒌 | D370: 程植光 | E370: 男 | F370: 44072219570522353X42 | G370: 44072219570522353X | H370: 肢体 | I370: 二级 | J370: 冲蒌镇前锋中围村2巷3号 | K370: 6228230616692358761 | L370: 程植光 | M370: 中国农业银行股份有限公司台山市支行
A371: =ROW()-2 -> 369 | B371: 社保卡 | C371: 冲蒌 | D371: 邓玉凤 | E371: 女 | F371: 45212619701014092862 | G371: =LEFT(F371,18) -> 452126197010140928 | H371: 精神 | I371: 二级 | J371: 冲蒌镇稔坪宦田村6巷5号西 | K371: 6228230617064091469 | L371: 邓玉凤 | M371: 中国农业银行股份有限公司台山市支行
A372: =ROW()-2 -> 370 | B372: 社保卡 | C372: 冲蒌 | D372: 杨青好 | E372: 女 | F372: 44072219490919356942 | G372: =LEFT(F372,18) -> 440722194909193569 | H372: 肢体 | I372: 二级 | J372: 冲蒌镇新围咸塘村11巷5号西 | K372: 6228230616694912367 | L372: 杨青好 | M372: 中国农业银行股份有限公司台山市支行
A373: =ROW()-2 -> 371 | B373: 社保卡 | C373: 冲蒌 | D373: 杨爱群 | E373: 女 | F373: 44072219490921352322 | G373: =LEFT(F373,18) -> 440722194909213523 | H373: 听力 | I373: 二级 | J373: 冲蒌镇侨东路一巷9号402房 | K373: 6228230616764425167 | L373: 杨爱群 | M373: 中国农业银行股份有限公司台山市支行
A374: =ROW()-2 -> 372 | B374: 社保卡 | C374: 冲蒌 | D374: 李润华 | E374: 男 | F374: 44078119900803351X63 | G374: =LEFT(F374,18) -> 44078119900803351X | H374: 精神 | I374: 三级 | J374: 冲蒌镇西坑南安村3巷6号东 | K374: 6228230616695769667 | L374: 李润华 | M374: 中国农业银行股份有限公司台山市支行
A375: =ROW()-2 -> 373 | B375: 社保卡 | C375: 冲蒌 | D375: 周丽媚 | E375: 女 | F375: 44072219520606354342 | G375: 440722195206063543 | H375: 肢体 | I375: 二级 | J375: 广东省台山市冲蒌镇新围胜塘村5巷6号 | K375: 6228230616694913563 | L375: 周丽媚 | M375: 中国农业银行股份有限公司台山市支行
A376: =ROW()-2 -> 374 | B376: 社保卡 | C376: 冲蒌 | D376: 陈玉莲 | E376: 女 | F376: 44072219461010354942 | G376: 440722194610103549 | H376: 肢体 | I376: 二级 | J376: 广东省台山市冲蒌镇西坑东头村10巷9号西 | K376: 6228230616692390962 | L376: 陈玉莲 | M376: 中国农业银行股份有限公司台山市支行
A377: =ROW()-2 -> 375 | B377: 社保卡 | C377: 冲蒌 | D377: 李春桂 | E377: 女 | F377: 44072219500715358941 | G377: 440722195007153589 | H377: 肢体 | I377: 一级 | J377: 广东省台山市冲蒌镇新围莲洲村5巷3号西 | K377: 6228230617116913066 | L377: 李春桂 | M377: 中国农业银行股份有限公司台山市支行
A378: =ROW()-2 -> 376 | B378: 社保卡 | C378: 冲蒌 | D378: 林树森 | E378: 男 | F378: 44072219471203351042 | G378: 440722194712033510 | H378: 肢体 | I378: 二级 | J378: 广东省台山市冲蒌镇新围胜塘村6巷7号 | K378: 6228230616729980967 | L378: 林树森 | M378: 中国农业银行股份有限公司台山市支行
A379: =ROW()-2 -> 377 | B379: 社保卡 | C379: 冲蒌 | D379: 李适意 | E379: 女 | F379: 44072219530826352X42 | G379: 44072219530826352X | H379: 肢体 | I379: 二级 | J379: 广东省台山市冲蒌镇新围胜塘村6巷5号 | K379: 6228230616695582565 | L379: 李适意 | M379: 中国农业银行股份有限公司台山市支行
A380: =ROW()-2 -> 378 | B380: 社保卡 | C380: 冲蒌 | D380: 伍凤霞 | E380: 女 | F380: 44072219441118352341 | G380: 440722194411183523 | H380: 肢体 | I380: 一级 | J380: 广东省台山市冲蒌镇达材湖安村10巷1号西 | K380: 6228230617116889761 | L380: 伍凤霞 | M380: 中国农业银行股份有限公司台山市支行
A381: =ROW()-2 -> 379 | B381: 社保卡 | C381: 冲蒌 | D381: 赵雪媚 | E381: 女 | F381: 44072219550714356342 | G381: 440722195507143563 | H381: 肢体 | I381: 二级 | J381: 广东省台山市冲蒌镇伞塘锦元村5巷8号 | K381: 6228230616729960662 | L381: 赵雪媚 | M381: 中国农业银行股份有限公司台山市支行
A382: =ROW()-2 -> 380 | B382: 社保卡 | C382: 冲蒌 | D382: 伍俊 | E382: 男 | F382: 44078119920914351254 | G382: 440781199209143512 | H382: 智力 | I382: 四级 | J382: 广东省台山市冲蒌镇竹洛村20巷1号东 | K382: 6228230617609416361 | L382: 伍俊 | M382: 中国农业银行股份有限公司台山市支行
A383: =ROW()-2 -> 381 | B383: 社保卡 | C383: 冲蒌 | D383: 麦悦威 | E383: 男 | F383: 44078119901011351971 | G383: 440781199010113519 | H383: 多重 | I383: 听力一级+言语一级 | J383: 广东省台山市冲蒌镇自由路9号 | K383: 6217280734001023257 | L383: 麦悦威 | M383: 广东台山农村商业银行股份有限公司
A384: =ROW()-2 -> 382 | B384: 社保卡 | C384: 冲蒌 | D384: 伍光业 | E384: 男 | F384: 44072219591030351241 | G384: 440722195910303512 | H384: 肢体 | I384: 一级 | J384: 广东省台山市冲蒌镇竹洛村24巷3号 | K384: 6228230616764437568 | L384: 伍光业 | M384: 中国农业银行股份有限公司台山市支行
A385: =ROW()-2 -> 383 | B385: 社保卡 | C385: 冲蒌 | D385: 伍德荣 | E385: 男 | F385: 44072219401111357741 | G385: 440722194011113577 | H385: 肢体 | I385: 一级 | J385: 广东省台山市冲蒌镇八家齐洛村19巷2号南 | K385: 6228230616733271668 | L385: 伍德荣 | M385: 中国农业银行股份有限公司台山市支行
A386: =ROW()-2 -> 384 | B386: 社保卡 | C386: 冲蒌 | D386: 许麟生 | E386: 男 | F386: 44072219500413353142 | G386: 440722195004133531 | H386: 肢体 | I386: 二级 | J386: 广东省台山市冲蒌镇前锋天荣村11巷2号 | K386: 6228230616696618566 | L386: 许麟生 | M386: 中国农业银行股份有限公司台山市支行
... A392: =ROW()-2 -> 390 | B392: 社保卡 | C392: 冲蒌 | D392: 陈稳玲 | E392: 女 | F392: 44072219680911552X61 | G392: 44072219680911552X | H392: 肢体 | I392: 一级 | J392: 台山市冲蒌镇前锋甫草洋村24巷5号 | K392: 6228230617120664762 | L392: 陈稳玲 | M392: 中国农业银行股份有限公司台山市支行
A393: =ROW()-2 -> 391 | B393: 社保卡 | C393: 冲蒌 | D393: 麦德富 | E393: 男 | F393: 44078119921004351963 | G393: 440781199210043519 | H393: 精神 | I393: 三级 | J393: 台山市冲蒌镇竹湖东湖村五巷5号 | K393: 6228230617062591767 | L393: 麦德富 | M393: 中国农业银行股份有限公司台山市支行 | N393: 新增
A394: =ROW()-2 -> 392 | B394: 社保卡 | C394: 冲蒌 | D394: 伍惠文 | E394: 女 | F394: 44072219610626354262 | G394: 440722196106263542 | H394: 精神 | I394: 二级 | J394: 台山市冲蒌镇八家齐洛村3巷6号南 | K394: 6217280734001129872 | L394: 伍惠文 | M394: 广东台山农村商业银行股份有限公司 | N394: 新增
